BEGIN:VCALENDAR
VERSION:2.0
PRODID:-//Alpine Allergy &amp; Asthma  Associates, Inc. - ECPv6.15.17.1//NONSGML v1.0//EN
CALSCALE:GREGORIAN
METHOD:PUBLISH
X-WR-CALNAME:Alpine Allergy &amp; Asthma  Associates, Inc.
X-ORIGINAL-URL:https://alpineallergy.com
X-WR-CALDESC:Events for Alpine Allergy &amp; Asthma  Associates, Inc.
REFRESH-INTERVAL;VALUE=DURATION:PT1H
X-Robots-Tag:noindex
X-PUBLISHED-TTL:PT1H
BEGIN:VTIMEZONE
TZID:UTC
BEGIN:STANDARD
TZOFFSETFROM:+0000
TZOFFSETTO:+0000
TZNAME:UTC
DTSTART:20190101T000000
END:STANDARD
END:VTIMEZONE
BEGIN:VTIMEZONE
TZID:America/Los_Angeles
BEGIN:DAYLIGHT
TZOFFSETFROM:-0800
TZOFFSETTO:-0700
TZNAME:PDT
DTSTART:20190310T100000
END:DAYLIGHT
BEGIN:STANDARD
TZOFFSETFROM:-0700
TZOFFSETTO:-0800
TZNAME:PST
DTSTART:20191103T090000
END:STANDARD
BEGIN:DAYLIGHT
TZOFFSETFROM:-0800
TZOFFSETTO:-0700
TZNAME:PDT
DTSTART:20200308T100000
END:DAYLIGHT
BEGIN:STANDARD
TZOFFSETFROM:-0700
TZOFFSETTO:-0800
TZNAME:PST
DTSTART:20201101T090000
END:STANDARD
BEGIN:DAYLIGHT
TZOFFSETFROM:-0800
TZOFFSETTO:-0700
TZNAME:PDT
DTSTART:20210314T100000
END:DAYLIGHT
BEGIN:STANDARD
TZOFFSETFROM:-0700
TZOFFSETTO:-0800
TZNAME:PST
DTSTART:20211107T090000
END:STANDARD
END:VTIMEZONE
BEGIN:VEVENT
DTSTART;TZID=UTC:20200206T140000
DTEND;TZID=UTC:20200206T164500
DTSTAMP:20260424T115858
CREATED:20200128T232115Z
LAST-MODIFIED:20200128T234535Z
UID:870-1580997600-1581007500@alpineallergy.com
SUMMARY:Allergy Shot Hours
DESCRIPTION:Auburn Office
URL:https://alpineallergy.com/allergy-shot-calendar-event/allergy-shot-hours-22/
LOCATION:Auburn Office\, 3254 Professional Dr\, Auburn\, CA\, 95602\, United States
CATEGORIES:Auburn Office
END:VEVENT
BEGIN:VEVENT
DTSTART;TZID=UTC:20200206T080000
DTEND;TZID=UTC:20200206T124500
DTSTAMP:20260424T115858
CREATED:20200128T232113Z
LAST-MODIFIED:20200128T234535Z
UID:869-1580976000-1580993100@alpineallergy.com
SUMMARY:Allergy Shot Hours
DESCRIPTION:Auburn Office
URL:https://alpineallergy.com/allergy-shot-calendar-event/allergy-shot-hours-21/
LOCATION:Auburn Office\, 3254 Professional Dr\, Auburn\, CA\, 95602\, United States
CATEGORIES:Auburn Office
END:VEVENT
BEGIN:VEVENT
DTSTART;TZID=UTC:20200203T123000
DTEND;TZID=UTC:20200203T173000
DTSTAMP:20260424T115858
CREATED:20200128T234535Z
LAST-MODIFIED:20200128T234535Z
UID:922-1580733000-1580751000@alpineallergy.com
SUMMARY:Allergy Shot Hours
DESCRIPTION:Auburn Office
URL:https://alpineallergy.com/allergy-shot-calendar-event/allergy-shot-hours-69/
LOCATION:Auburn Office\, 3254 Professional Dr\, Auburn\, CA\, 95602\, United States
CATEGORIES:Auburn Office
END:VEVENT
BEGIN:VEVENT
DTSTART;TZID=UTC:20200203T093000
DTEND;TZID=UTC:20200203T113000
DTSTAMP:20260424T115858
CREATED:20200128T234533Z
LAST-MODIFIED:20200128T234533Z
UID:921-1580722200-1580729400@alpineallergy.com
SUMMARY:Allergy Shot Hours
DESCRIPTION:Auburn Office
URL:https://alpineallergy.com/allergy-shot-calendar-event/allergy-shot-hours-68/
LOCATION:Auburn Office\, 3254 Professional Dr\, Auburn\, CA\, 95602\, United States
CATEGORIES:Auburn Office
END:VEVENT
BEGIN:VEVENT
DTSTART;TZID=America/Los_Angeles:20200131T073000
DTEND;TZID=America/Los_Angeles:20200131T120000
DTSTAMP:20260424T115858
CREATED:20200128T211513Z
LAST-MODIFIED:20200128T211905Z
UID:832-1580455800-1580472000@alpineallergy.com
SUMMARY:Allergy Shot Hours
DESCRIPTION:Auburn Office
URL:https://alpineallergy.com/allergy-shot-calendar-event/allergy-shot-hours-4/
LOCATION:Auburn Office\, 3254 Professional Dr\, Auburn\, CA\, 95602\, United States
CATEGORIES:Auburn Office
END:VEVENT
BEGIN:VEVENT
DTSTART;TZID=UTC:20200130T140000
DTEND;TZID=UTC:20200130T164500
DTSTAMP:20260424T115858
CREATED:20200128T221254Z
LAST-MODIFIED:20200128T234533Z
UID:862-1580392800-1580402700@alpineallergy.com
SUMMARY:Allergy Shot Hours
DESCRIPTION:Auburn Office
URL:https://alpineallergy.com/allergy-shot-calendar-event/allergy-shot-hours-16/
LOCATION:Auburn Office\, 3254 Professional Dr\, Auburn\, CA\, 95602\, United States
CATEGORIES:Auburn Office
END:VEVENT
BEGIN:VEVENT
DTSTART;TZID=UTC:20200130T080000
DTEND;TZID=UTC:20200130T124500
DTSTAMP:20260424T115858
CREATED:20200128T221252Z
LAST-MODIFIED:20200128T234533Z
UID:861-1580371200-1580388300@alpineallergy.com
SUMMARY:Allergy Shot Hours
DESCRIPTION:Auburn Office
URL:https://alpineallergy.com/allergy-shot-calendar-event/allergy-shot-hours-15/
LOCATION:Auburn Office\, 3254 Professional Dr\, Auburn\, CA\, 95602\, United States
CATEGORIES:Auburn Office
END:VEVENT
BEGIN:VEVENT
DTSTART;TZID=UTC:20200127T123000
DTEND;TZID=UTC:20200127T173000
DTSTAMP:20260424T115858
CREATED:20200128T234533Z
LAST-MODIFIED:20200128T234533Z
UID:918-1580128200-1580146200@alpineallergy.com
SUMMARY:Allergy Shot Hours
DESCRIPTION:Auburn Office
URL:https://alpineallergy.com/allergy-shot-calendar-event/allergy-shot-hours-67/
LOCATION:Auburn Office\, 3254 Professional Dr\, Auburn\, CA\, 95602\, United States
CATEGORIES:Auburn Office
END:VEVENT
BEGIN:VEVENT
DTSTART;TZID=UTC:20200127T093000
DTEND;TZID=UTC:20200127T113000
DTSTAMP:20260424T115858
CREATED:20200128T234532Z
LAST-MODIFIED:20200128T234532Z
UID:917-1580117400-1580124600@alpineallergy.com
SUMMARY:Allergy Shot Hours
DESCRIPTION:Auburn Office
URL:https://alpineallergy.com/allergy-shot-calendar-event/allergy-shot-hours/
LOCATION:Auburn Office\, 3254 Professional Dr\, Auburn\, CA\, 95602\, United States
CATEGORIES:Auburn Office
END:VEVENT
END:VCALENDAR