BEGIN:VCALENDAR
VERSION:2.0
PRODID:-//Alpine Allergy &amp; Asthma  Associates, Inc. - ECPv6.15.17.1//NONSGML v1.0//EN
CALSCALE:GREGORIAN
METHOD:PUBLISH
X-ORIGINAL-URL:https://alpineallergy.com
X-WR-CALDESC:Events for Alpine Allergy &amp; Asthma  Associates, Inc.
REFRESH-INTERVAL;VALUE=DURATION:PT1H
X-Robots-Tag:noindex
X-PUBLISHED-TTL:PT1H
BEGIN:VTIMEZONE
TZID:UTC
BEGIN:STANDARD
TZOFFSETFROM:+0000
TZOFFSETTO:+0000
TZNAME:UTC
DTSTART:20190101T000000
END:STANDARD
END:VTIMEZONE
BEGIN:VTIMEZONE
TZID:America/Los_Angeles
BEGIN:DAYLIGHT
TZOFFSETFROM:-0800
TZOFFSETTO:-0700
TZNAME:PDT
DTSTART:20190310T100000
END:DAYLIGHT
BEGIN:STANDARD
TZOFFSETFROM:-0700
TZOFFSETTO:-0800
TZNAME:PST
DTSTART:20191103T090000
END:STANDARD
BEGIN:DAYLIGHT
TZOFFSETFROM:-0800
TZOFFSETTO:-0700
TZNAME:PDT
DTSTART:20200308T100000
END:DAYLIGHT
BEGIN:STANDARD
TZOFFSETFROM:-0700
TZOFFSETTO:-0800
TZNAME:PST
DTSTART:20201101T090000
END:STANDARD
BEGIN:DAYLIGHT
TZOFFSETFROM:-0800
TZOFFSETTO:-0700
TZNAME:PDT
DTSTART:20210314T100000
END:DAYLIGHT
BEGIN:STANDARD
TZOFFSETFROM:-0700
TZOFFSETTO:-0800
TZNAME:PST
DTSTART:20211107T090000
END:STANDARD
END:VTIMEZONE
BEGIN:VEVENT
DTSTART;TZID=UTC:20200319T140000
DTEND;TZID=UTC:20200319T164500
DTSTAMP:20260424T065724
CREATED:20200128T232122Z
LAST-MODIFIED:20200128T234540Z
UID:906-1584626400-1584636300@alpineallergy.com
SUMMARY:Allergy Shot Hours
DESCRIPTION:Auburn Office
URL:https://alpineallergy.com/allergy-shot-calendar-event/allergy-shot-hours-58/
LOCATION:Auburn Office\, 3254 Professional Dr\, Auburn\, CA\, 95602\, United States
CATEGORIES:Auburn Office
END:VEVENT
BEGIN:VEVENT
DTSTART;TZID=UTC:20200319T080000
DTEND;TZID=UTC:20200319T124500
DTSTAMP:20260424T065724
CREATED:20200128T232122Z
LAST-MODIFIED:20200128T234540Z
UID:905-1584604800-1584621900@alpineallergy.com
SUMMARY:Allergy Shot Hours
DESCRIPTION:Auburn Office
URL:https://alpineallergy.com/allergy-shot-calendar-event/allergy-shot-hours-57/
LOCATION:Auburn Office\, 3254 Professional Dr\, Auburn\, CA\, 95602\, United States
CATEGORIES:Auburn Office
END:VEVENT
BEGIN:VEVENT
DTSTART;TZID=UTC:20200316T123000
DTEND;TZID=UTC:20200316T173000
DTSTAMP:20260424T065724
CREATED:20200128T234539Z
LAST-MODIFIED:20200128T234539Z
UID:946-1584361800-1584379800@alpineallergy.com
SUMMARY:Allergy Shot Hours
DESCRIPTION:Auburn Office
URL:https://alpineallergy.com/allergy-shot-calendar-event/allergy-shot-hours-81/
LOCATION:Auburn Office\, 3254 Professional Dr\, Auburn\, CA\, 95602\, United States
CATEGORIES:Auburn Office
END:VEVENT
BEGIN:VEVENT
DTSTART;TZID=UTC:20200316T093000
DTEND;TZID=UTC:20200316T113000
DTSTAMP:20260424T065724
CREATED:20200128T234539Z
LAST-MODIFIED:20200128T234539Z
UID:945-1584351000-1584358200@alpineallergy.com
SUMMARY:Allergy Shot Hours
DESCRIPTION:Auburn Office
URL:https://alpineallergy.com/allergy-shot-calendar-event/allergy-shot-hours-80/
LOCATION:Auburn Office\, 3254 Professional Dr\, Auburn\, CA\, 95602\, United States
CATEGORIES:Auburn Office
END:VEVENT
BEGIN:VEVENT
DTSTART;TZID=America/Los_Angeles:20200313T073000
DTEND;TZID=America/Los_Angeles:20200313T120000
DTSTAMP:20260424T065724
CREATED:20200128T212448Z
LAST-MODIFIED:20200128T212448Z
UID:840-1584084600-1584100800@alpineallergy.com
SUMMARY:Allergy Shot Hours
DESCRIPTION:Auburn Office
URL:https://alpineallergy.com/allergy-shot-calendar-event/allergy-shot-hours-10/
LOCATION:Auburn Office\, 3254 Professional Dr\, Auburn\, CA\, 95602\, United States
CATEGORIES:Auburn Office
END:VEVENT
BEGIN:VEVENT
DTSTART;TZID=UTC:20200312T140000
DTEND;TZID=UTC:20200312T164500
DTSTAMP:20260424T065724
CREATED:20200128T232121Z
LAST-MODIFIED:20200128T234539Z
UID:900-1584021600-1584031500@alpineallergy.com
SUMMARY:Allergy Shot Hours
DESCRIPTION:Auburn Office
URL:https://alpineallergy.com/allergy-shot-calendar-event/allergy-shot-hours-52/
LOCATION:Auburn Office\, 3254 Professional Dr\, Auburn\, CA\, 95602\, United States
CATEGORIES:Auburn Office
END:VEVENT
BEGIN:VEVENT
DTSTART;TZID=UTC:20200312T080000
DTEND;TZID=UTC:20200312T124500
DTSTAMP:20260424T065724
CREATED:20200128T232121Z
LAST-MODIFIED:20200128T234539Z
UID:899-1584000000-1584017100@alpineallergy.com
SUMMARY:Allergy Shot Hours
DESCRIPTION:Auburn Office
URL:https://alpineallergy.com/allergy-shot-calendar-event/allergy-shot-hours-51/
LOCATION:Auburn Office\, 3254 Professional Dr\, Auburn\, CA\, 95602\, United States
CATEGORIES:Auburn Office
END:VEVENT
BEGIN:VEVENT
DTSTART;TZID=UTC:20200309T123000
DTEND;TZID=UTC:20200309T173000
DTSTAMP:20260424T065724
CREATED:20200128T234539Z
LAST-MODIFIED:20200128T234539Z
UID:942-1583757000-1583775000@alpineallergy.com
SUMMARY:Allergy Shot Hours
DESCRIPTION:Auburn Office
URL:https://alpineallergy.com/allergy-shot-calendar-event/allergy-shot-hours-79/
LOCATION:Auburn Office\, 3254 Professional Dr\, Auburn\, CA\, 95602\, United States
CATEGORIES:Auburn Office
END:VEVENT
BEGIN:VEVENT
DTSTART;TZID=UTC:20200309T093000
DTEND;TZID=UTC:20200309T113000
DTSTAMP:20260424T065724
CREATED:20200128T234538Z
LAST-MODIFIED:20200128T234538Z
UID:941-1583746200-1583753400@alpineallergy.com
SUMMARY:Allergy Shot Hours
DESCRIPTION:Auburn Office
URL:https://alpineallergy.com/allergy-shot-calendar-event/allergy-shot-hours-78/
LOCATION:Auburn Office\, 3254 Professional Dr\, Auburn\, CA\, 95602\, United States
CATEGORIES:Auburn Office
END:VEVENT
BEGIN:VEVENT
DTSTART;TZID=America/Los_Angeles:20200306T073000
DTEND;TZID=America/Los_Angeles:20200306T120000
DTSTAMP:20260424T065724
CREATED:20200128T212413Z
LAST-MODIFIED:20200128T212413Z
UID:839-1583479800-1583496000@alpineallergy.com
SUMMARY:Allergy Shot Hours
DESCRIPTION:Auburn Office
URL:https://alpineallergy.com/allergy-shot-calendar-event/allergy-shot-hours-9/
LOCATION:Auburn Office\, 3254 Professional Dr\, Auburn\, CA\, 95602\, United States
CATEGORIES:Auburn Office
END:VEVENT
BEGIN:VEVENT
DTSTART;TZID=UTC:20200305T140000
DTEND;TZID=UTC:20200305T164500
DTSTAMP:20260424T065724
CREATED:20200128T232119Z
LAST-MODIFIED:20200128T234538Z
UID:894-1583416800-1583426700@alpineallergy.com
SUMMARY:Allergy Shot Hours
DESCRIPTION:Auburn Office
URL:https://alpineallergy.com/allergy-shot-calendar-event/allergy-shot-hours-46/
LOCATION:Auburn Office\, 3254 Professional Dr\, Auburn\, CA\, 95602\, United States
CATEGORIES:Auburn Office
END:VEVENT
BEGIN:VEVENT
DTSTART;TZID=UTC:20200305T080000
DTEND;TZID=UTC:20200305T124500
DTSTAMP:20260424T065724
CREATED:20200128T232119Z
LAST-MODIFIED:20200128T234538Z
UID:893-1583395200-1583412300@alpineallergy.com
SUMMARY:Allergy Shot Hours
DESCRIPTION:Auburn Office
URL:https://alpineallergy.com/allergy-shot-calendar-event/allergy-shot-hours-45/
LOCATION:Auburn Office\, 3254 Professional Dr\, Auburn\, CA\, 95602\, United States
CATEGORIES:Auburn Office
END:VEVENT
BEGIN:VEVENT
DTSTART;TZID=UTC:20200302T123000
DTEND;TZID=UTC:20200302T173000
DTSTAMP:20260424T065724
CREATED:20200128T234538Z
LAST-MODIFIED:20200128T234538Z
UID:938-1583152200-1583170200@alpineallergy.com
SUMMARY:Allergy Shot Hours
DESCRIPTION:Auburn Office
URL:https://alpineallergy.com/allergy-shot-calendar-event/allergy-shot-hours-77/
LOCATION:Auburn Office\, 3254 Professional Dr\, Auburn\, CA\, 95602\, United States
CATEGORIES:Auburn Office
END:VEVENT
BEGIN:VEVENT
DTSTART;TZID=UTC:20200302T093000
DTEND;TZID=UTC:20200302T113000
DTSTAMP:20260424T065724
CREATED:20200128T234538Z
LAST-MODIFIED:20200128T234538Z
UID:937-1583141400-1583148600@alpineallergy.com
SUMMARY:Allergy Shot Hours
DESCRIPTION:Auburn Office
URL:https://alpineallergy.com/allergy-shot-calendar-event/allergy-shot-hours-76/
LOCATION:Auburn Office\, 3254 Professional Dr\, Auburn\, CA\, 95602\, United States
CATEGORIES:Auburn Office
END:VEVENT
BEGIN:VEVENT
DTSTART;TZID=America/Los_Angeles:20200228T073000
DTEND;TZID=America/Los_Angeles:20200228T120000
DTSTAMP:20260424T065724
CREATED:20200128T212219Z
LAST-MODIFIED:20200128T212219Z
UID:838-1582875000-1582891200@alpineallergy.com
SUMMARY:Allergy Shot Hours
DESCRIPTION:Auburn Office
URL:https://alpineallergy.com/allergy-shot-calendar-event/allergy-shot-hours-8/
LOCATION:Auburn Office\, 3254 Professional Dr\, Auburn\, CA\, 95602\, United States
CATEGORIES:Auburn Office
END:VEVENT
BEGIN:VEVENT
DTSTART;TZID=UTC:20200227T140000
DTEND;TZID=UTC:20200227T164500
DTSTAMP:20260424T065724
CREATED:20200128T232118Z
LAST-MODIFIED:20200128T234537Z
UID:888-1582812000-1582821900@alpineallergy.com
SUMMARY:Allergy Shot Hours
DESCRIPTION:Auburn Office
URL:https://alpineallergy.com/allergy-shot-calendar-event/allergy-shot-hours-40/
LOCATION:Auburn Office\, 3254 Professional Dr\, Auburn\, CA\, 95602\, United States
CATEGORIES:Auburn Office
END:VEVENT
BEGIN:VEVENT
DTSTART;TZID=UTC:20200227T080000
DTEND;TZID=UTC:20200227T124500
DTSTAMP:20260424T065724
CREATED:20200128T232118Z
LAST-MODIFIED:20200128T234537Z
UID:887-1582790400-1582807500@alpineallergy.com
SUMMARY:Allergy Shot Hours
DESCRIPTION:Auburn Office
URL:https://alpineallergy.com/allergy-shot-calendar-event/allergy-shot-hours-39/
LOCATION:Auburn Office\, 3254 Professional Dr\, Auburn\, CA\, 95602\, United States
CATEGORIES:Auburn Office
END:VEVENT
BEGIN:VEVENT
DTSTART;TZID=UTC:20200224T123000
DTEND;TZID=UTC:20200224T173000
DTSTAMP:20260424T065724
CREATED:20200128T234537Z
LAST-MODIFIED:20200128T234537Z
UID:934-1582547400-1582565400@alpineallergy.com
SUMMARY:Allergy Shot Hours
DESCRIPTION:Auburn Office
URL:https://alpineallergy.com/allergy-shot-calendar-event/allergy-shot-hours-75/
LOCATION:Auburn Office\, 3254 Professional Dr\, Auburn\, CA\, 95602\, United States
CATEGORIES:Auburn Office
END:VEVENT
BEGIN:VEVENT
DTSTART;TZID=UTC:20200224T093000
DTEND;TZID=UTC:20200224T113000
DTSTAMP:20260424T065724
CREATED:20200128T234537Z
LAST-MODIFIED:20200128T234537Z
UID:933-1582536600-1582543800@alpineallergy.com
SUMMARY:Allergy Shot Hours
DESCRIPTION:Auburn Office
URL:https://alpineallergy.com/allergy-shot-calendar-event/allergy-shot-hours-74/
LOCATION:Auburn Office\, 3254 Professional Dr\, Auburn\, CA\, 95602\, United States
CATEGORIES:Auburn Office
END:VEVENT
BEGIN:VEVENT
DTSTART;TZID=America/Los_Angeles:20200221T073000
DTEND;TZID=America/Los_Angeles:20200221T120000
DTSTAMP:20260424T065724
CREATED:20200128T212143Z
LAST-MODIFIED:20200128T212143Z
UID:837-1582270200-1582286400@alpineallergy.com
SUMMARY:Allergy Shot Hours
DESCRIPTION:Auburn Office
URL:https://alpineallergy.com/allergy-shot-calendar-event/allergy-shot-hours-7/
LOCATION:Auburn Office\, 3254 Professional Dr\, Auburn\, CA\, 95602\, United States
CATEGORIES:Auburn Office
END:VEVENT
BEGIN:VEVENT
DTSTART;TZID=UTC:20200220T140000
DTEND;TZID=UTC:20200220T164500
DTSTAMP:20260424T065724
CREATED:20200128T232117Z
LAST-MODIFIED:20200128T234537Z
UID:882-1582207200-1582217100@alpineallergy.com
SUMMARY:Allergy Shot Hours
DESCRIPTION:Auburn Office
URL:https://alpineallergy.com/allergy-shot-calendar-event/allergy-shot-hours-34/
LOCATION:Auburn Office\, 3254 Professional Dr\, Auburn\, CA\, 95602\, United States
CATEGORIES:Auburn Office
END:VEVENT
BEGIN:VEVENT
DTSTART;TZID=UTC:20200220T080000
DTEND;TZID=UTC:20200220T124500
DTSTAMP:20260424T065724
CREATED:20200128T232117Z
LAST-MODIFIED:20200128T234536Z
UID:881-1582185600-1582202700@alpineallergy.com
SUMMARY:Allergy Shot Hours
DESCRIPTION:Auburn Office
URL:https://alpineallergy.com/allergy-shot-calendar-event/allergy-shot-hours-33/
LOCATION:Auburn Office\, 3254 Professional Dr\, Auburn\, CA\, 95602\, United States
CATEGORIES:Auburn Office
END:VEVENT
BEGIN:VEVENT
DTSTART;TZID=UTC:20200217T123000
DTEND;TZID=UTC:20200217T173000
DTSTAMP:20260424T065724
CREATED:20200128T234536Z
LAST-MODIFIED:20200128T234536Z
UID:930-1581942600-1581960600@alpineallergy.com
SUMMARY:Allergy Shot Hours
DESCRIPTION:Auburn Office
URL:https://alpineallergy.com/allergy-shot-calendar-event/allergy-shot-hours-73/
LOCATION:Auburn Office\, 3254 Professional Dr\, Auburn\, CA\, 95602\, United States
CATEGORIES:Auburn Office
END:VEVENT
BEGIN:VEVENT
DTSTART;TZID=UTC:20200217T093000
DTEND;TZID=UTC:20200217T113000
DTSTAMP:20260424T065724
CREATED:20200128T234536Z
LAST-MODIFIED:20200128T234536Z
UID:929-1581931800-1581939000@alpineallergy.com
SUMMARY:Allergy Shot Hours
DESCRIPTION:Auburn Office
URL:https://alpineallergy.com/allergy-shot-calendar-event/allergy-shot-hours-72/
LOCATION:Auburn Office\, 3254 Professional Dr\, Auburn\, CA\, 95602\, United States
CATEGORIES:Auburn Office
END:VEVENT
BEGIN:VEVENT
DTSTART;TZID=America/Los_Angeles:20200214T073000
DTEND;TZID=America/Los_Angeles:20200214T120000
DTSTAMP:20260424T065724
CREATED:20200128T212040Z
LAST-MODIFIED:20200128T212040Z
UID:836-1581665400-1581681600@alpineallergy.com
SUMMARY:Allergy Shot Hours
DESCRIPTION:Auburn Office
URL:https://alpineallergy.com/allergy-shot-calendar-event/allergy-shot-hours-6/
LOCATION:Auburn Office\, 3254 Professional Dr\, Auburn\, CA\, 95602\, United States
CATEGORIES:Auburn Office
END:VEVENT
BEGIN:VEVENT
DTSTART;TZID=UTC:20200213T140000
DTEND;TZID=UTC:20200213T164500
DTSTAMP:20260424T065724
CREATED:20200128T232116Z
LAST-MODIFIED:20200128T234536Z
UID:876-1581602400-1581612300@alpineallergy.com
SUMMARY:Allergy Shot Hours
DESCRIPTION:Auburn Office
URL:https://alpineallergy.com/allergy-shot-calendar-event/allergy-shot-hours-28/
LOCATION:Auburn Office\, 3254 Professional Dr\, Auburn\, CA\, 95602\, United States
CATEGORIES:Auburn Office
END:VEVENT
BEGIN:VEVENT
DTSTART;TZID=UTC:20200213T080000
DTEND;TZID=UTC:20200213T124500
DTSTAMP:20260424T065724
CREATED:20200128T232116Z
LAST-MODIFIED:20200128T234536Z
UID:875-1581580800-1581597900@alpineallergy.com
SUMMARY:Allergy Shot Hours
DESCRIPTION:Auburn Office
URL:https://alpineallergy.com/allergy-shot-calendar-event/allergy-shot-hours-27/
LOCATION:Auburn Office\, 3254 Professional Dr\, Auburn\, CA\, 95602\, United States
CATEGORIES:Auburn Office
END:VEVENT
BEGIN:VEVENT
DTSTART;TZID=UTC:20200210T123000
DTEND;TZID=UTC:20200210T173000
DTSTAMP:20260424T065724
CREATED:20200128T234535Z
LAST-MODIFIED:20200128T234535Z
UID:926-1581337800-1581355800@alpineallergy.com
SUMMARY:Allergy Shot Hours
DESCRIPTION:Auburn Office
URL:https://alpineallergy.com/allergy-shot-calendar-event/allergy-shot-hours-71/
LOCATION:Auburn Office\, 3254 Professional Dr\, Auburn\, CA\, 95602\, United States
CATEGORIES:Auburn Office
END:VEVENT
BEGIN:VEVENT
DTSTART;TZID=UTC:20200210T093000
DTEND;TZID=UTC:20200210T113000
DTSTAMP:20260424T065724
CREATED:20200128T234535Z
LAST-MODIFIED:20200128T234535Z
UID:925-1581327000-1581334200@alpineallergy.com
SUMMARY:Allergy Shot Hours
DESCRIPTION:Auburn Office
URL:https://alpineallergy.com/allergy-shot-calendar-event/allergy-shot-hours-70/
LOCATION:Auburn Office\, 3254 Professional Dr\, Auburn\, CA\, 95602\, United States
CATEGORIES:Auburn Office
END:VEVENT
BEGIN:VEVENT
DTSTART;TZID=America/Los_Angeles:20200207T073000
DTEND;TZID=America/Los_Angeles:20200207T120000
DTSTAMP:20260424T065724
CREATED:20200128T211807Z
LAST-MODIFIED:20200128T211807Z
UID:834-1581060600-1581076800@alpineallergy.com
SUMMARY:Allergy Shot Hours
DESCRIPTION:Auburn Office
URL:https://alpineallergy.com/allergy-shot-calendar-event/allergy-shot-hours-5/
LOCATION:Auburn Office\, 3254 Professional Dr\, Auburn\, CA\, 95602\, United States
CATEGORIES:Auburn Office
END:VEVENT
END:VCALENDAR