BEGIN:VCALENDAR
VERSION:2.0
PRODID:-//Alpine Allergy &amp; Asthma  Associates, Inc. - ECPv6.15.17.1//NONSGML v1.0//EN
CALSCALE:GREGORIAN
METHOD:PUBLISH
X-ORIGINAL-URL:https://alpineallergy.com
X-WR-CALDESC:Events for Alpine Allergy &amp; Asthma  Associates, Inc.
REFRESH-INTERVAL;VALUE=DURATION:PT1H
X-Robots-Tag:noindex
X-PUBLISHED-TTL:PT1H
BEGIN:VTIMEZONE
TZID:UTC
BEGIN:STANDARD
TZOFFSETFROM:+0000
TZOFFSETTO:+0000
TZNAME:UTC
DTSTART:20270101T000000
END:STANDARD
END:VTIMEZONE
BEGIN:VEVENT
DTSTART;VALUE=DATE:20280201
DTEND;VALUE=DATE:20280202
DTSTAMP:20260423T223901
CREATED:20200612T174110Z
LAST-MODIFIED:20200612T174110Z
UID:11352-1832976000-1833062399@alpineallergy.com
SUMMARY:GV Shot Hours
DESCRIPTION:﻿8:00am-12:45pm & 2:00pm-4:45pm
URL:https://alpineallergy.com/allergy-shot-calendar-event/grass-valley-shot-hours-2022-08-24-2022-08-23-2026-04-14/2028-02-01/
END:VEVENT
BEGIN:VEVENT
DTSTART;VALUE=DATE:20280202
DTEND;VALUE=DATE:20280203
DTSTAMP:20260423T223901
CREATED:20200612T174110Z
LAST-MODIFIED:20260331T201432Z
UID:11676-1833062400-1833148799@alpineallergy.com
SUMMARY:Aub & GV Shot Hours
DESCRIPTION:8:00am-12:45pm & 2:00pm-4:45pm
URL:https://alpineallergy.com/allergy-shot-calendar-event/grass-valley-shot-hours-2022-08-24-2022-08-24-2026-05-06-2026-04-08/2028-02-02/
END:VEVENT
BEGIN:VEVENT
DTSTART;VALUE=DATE:20280203
DTEND;VALUE=DATE:20280204
DTSTAMP:20260423T223901
CREATED:20200612T172239Z
LAST-MODIFIED:20200612T172239Z
UID:10782-1833148800-1833235199@alpineallergy.com
SUMMARY:No Shots
DESCRIPTION:
URL:https://alpineallergy.com/allergy-shot-calendar-event/gv-shot-hours-2-2022-08-25-2025-05-01/2028-02-03/
END:VEVENT
BEGIN:VEVENT
DTSTART;VALUE=DATE:20280203
DTEND;VALUE=DATE:20280204
DTSTAMP:20260423T223901
CREATED:20200612T172239Z
LAST-MODIFIED:20200612T172239Z
UID:10783-1833148800-1833235199@alpineallergy.com
SUMMARY:No Shots
DESCRIPTION:
URL:https://alpineallergy.com/allergy-shot-calendar-event/gv-shot-hours-2-2022-08-25/2028-02-03/
END:VEVENT
BEGIN:VEVENT
DTSTART;VALUE=DATE:20280204
DTEND;VALUE=DATE:20280205
DTSTAMP:20260423T223901
CREATED:20200612T173556Z
LAST-MODIFIED:20200612T173556Z
UID:10784-1833235200-1833321599@alpineallergy.com
SUMMARY:No Shots
DESCRIPTION:
URL:https://alpineallergy.com/allergy-shot-calendar-event/auburn-shot-hours-4/2028-02-04/
END:VEVENT
BEGIN:VEVENT
DTSTART;VALUE=DATE:20280207
DTEND;VALUE=DATE:20280208
DTSTAMP:20260423T223901
CREATED:20200612T171629Z
LAST-MODIFIED:20260316T234908Z
UID:10785-1833494400-1833580799@alpineallergy.com
SUMMARY:Auburn Shot Hours
DESCRIPTION:  \n8:00am-12:45pm & 2:00pm-4:45pm
URL:https://alpineallergy.com/allergy-shot-calendar-event/auburn-shot-hours-3/2028-02-07/
END:VEVENT
BEGIN:VEVENT
DTSTART;VALUE=DATE:20280208
DTEND;VALUE=DATE:20280209
DTSTAMP:20260423T223901
CREATED:20200612T174110Z
LAST-MODIFIED:20200612T174110Z
UID:11353-1833580800-1833667199@alpineallergy.com
SUMMARY:GV Shot Hours
DESCRIPTION:﻿8:00am-12:45pm & 2:00pm-4:45pm
URL:https://alpineallergy.com/allergy-shot-calendar-event/grass-valley-shot-hours-2022-08-24-2022-08-23-2026-04-14/2028-02-08/
END:VEVENT
BEGIN:VEVENT
DTSTART;VALUE=DATE:20280209
DTEND;VALUE=DATE:20280210
DTSTAMP:20260423T223901
CREATED:20200612T174110Z
LAST-MODIFIED:20260331T201432Z
UID:11677-1833667200-1833753599@alpineallergy.com
SUMMARY:Aub & GV Shot Hours
DESCRIPTION:8:00am-12:45pm & 2:00pm-4:45pm
URL:https://alpineallergy.com/allergy-shot-calendar-event/grass-valley-shot-hours-2022-08-24-2022-08-24-2026-05-06-2026-04-08/2028-02-09/
END:VEVENT
BEGIN:VEVENT
DTSTART;VALUE=DATE:20280210
DTEND;VALUE=DATE:20280211
DTSTAMP:20260423T223901
CREATED:20200612T172239Z
LAST-MODIFIED:20200612T172239Z
UID:10790-1833753600-1833839999@alpineallergy.com
SUMMARY:No Shots
DESCRIPTION:
URL:https://alpineallergy.com/allergy-shot-calendar-event/gv-shot-hours-2-2022-08-25/2028-02-10/
END:VEVENT
BEGIN:VEVENT
DTSTART;VALUE=DATE:20280210
DTEND;VALUE=DATE:20280211
DTSTAMP:20260423T223901
CREATED:20200612T172239Z
LAST-MODIFIED:20200612T172239Z
UID:10789-1833753600-1833839999@alpineallergy.com
SUMMARY:No Shots
DESCRIPTION:
URL:https://alpineallergy.com/allergy-shot-calendar-event/gv-shot-hours-2-2022-08-25-2025-05-01/2028-02-10/
END:VEVENT
BEGIN:VEVENT
DTSTART;VALUE=DATE:20280211
DTEND;VALUE=DATE:20280212
DTSTAMP:20260423T223901
CREATED:20200612T173556Z
LAST-MODIFIED:20200612T173556Z
UID:10791-1833840000-1833926399@alpineallergy.com
SUMMARY:No Shots
DESCRIPTION:
URL:https://alpineallergy.com/allergy-shot-calendar-event/auburn-shot-hours-4/2028-02-11/
END:VEVENT
BEGIN:VEVENT
DTSTART;VALUE=DATE:20280214
DTEND;VALUE=DATE:20280215
DTSTAMP:20260423T223901
CREATED:20200612T171629Z
LAST-MODIFIED:20260316T234908Z
UID:10792-1834099200-1834185599@alpineallergy.com
SUMMARY:Auburn Shot Hours
DESCRIPTION:  \n8:00am-12:45pm & 2:00pm-4:45pm
URL:https://alpineallergy.com/allergy-shot-calendar-event/auburn-shot-hours-3/2028-02-14/
END:VEVENT
BEGIN:VEVENT
DTSTART;VALUE=DATE:20280215
DTEND;VALUE=DATE:20280216
DTSTAMP:20260423T223901
CREATED:20200612T174110Z
LAST-MODIFIED:20200612T174110Z
UID:11354-1834185600-1834271999@alpineallergy.com
SUMMARY:GV Shot Hours
DESCRIPTION:﻿8:00am-12:45pm & 2:00pm-4:45pm
URL:https://alpineallergy.com/allergy-shot-calendar-event/grass-valley-shot-hours-2022-08-24-2022-08-23-2026-04-14/2028-02-15/
END:VEVENT
BEGIN:VEVENT
DTSTART;VALUE=DATE:20280216
DTEND;VALUE=DATE:20280217
DTSTAMP:20260423T223901
CREATED:20200612T174110Z
LAST-MODIFIED:20260331T201432Z
UID:11678-1834272000-1834358399@alpineallergy.com
SUMMARY:Aub & GV Shot Hours
DESCRIPTION:8:00am-12:45pm & 2:00pm-4:45pm
URL:https://alpineallergy.com/allergy-shot-calendar-event/grass-valley-shot-hours-2022-08-24-2022-08-24-2026-05-06-2026-04-08/2028-02-16/
END:VEVENT
BEGIN:VEVENT
DTSTART;VALUE=DATE:20280217
DTEND;VALUE=DATE:20280218
DTSTAMP:20260423T223901
CREATED:20200612T172239Z
LAST-MODIFIED:20200612T172239Z
UID:10799-1834358400-1834444799@alpineallergy.com
SUMMARY:No Shots
DESCRIPTION:
URL:https://alpineallergy.com/allergy-shot-calendar-event/gv-shot-hours-2-2022-08-25/2028-02-17/
END:VEVENT
BEGIN:VEVENT
DTSTART;VALUE=DATE:20280217
DTEND;VALUE=DATE:20280218
DTSTAMP:20260423T223901
CREATED:20200612T172239Z
LAST-MODIFIED:20200612T172239Z
UID:10800-1834358400-1834444799@alpineallergy.com
SUMMARY:No Shots
DESCRIPTION:
URL:https://alpineallergy.com/allergy-shot-calendar-event/gv-shot-hours-2-2022-08-25-2025-05-01/2028-02-17/
END:VEVENT
BEGIN:VEVENT
DTSTART;VALUE=DATE:20280218
DTEND;VALUE=DATE:20280219
DTSTAMP:20260423T223901
CREATED:20200612T173556Z
LAST-MODIFIED:20200612T173556Z
UID:10801-1834444800-1834531199@alpineallergy.com
SUMMARY:No Shots
DESCRIPTION:
URL:https://alpineallergy.com/allergy-shot-calendar-event/auburn-shot-hours-4/2028-02-18/
END:VEVENT
BEGIN:VEVENT
DTSTART;VALUE=DATE:20280221
DTEND;VALUE=DATE:20280222
DTSTAMP:20260423T223901
CREATED:20200612T171629Z
LAST-MODIFIED:20260316T234908Z
UID:10802-1834704000-1834790399@alpineallergy.com
SUMMARY:Auburn Shot Hours
DESCRIPTION:  \n8:00am-12:45pm & 2:00pm-4:45pm
URL:https://alpineallergy.com/allergy-shot-calendar-event/auburn-shot-hours-3/2028-02-21/
END:VEVENT
BEGIN:VEVENT
DTSTART;VALUE=DATE:20280222
DTEND;VALUE=DATE:20280223
DTSTAMP:20260423T223901
CREATED:20200612T174110Z
LAST-MODIFIED:20200612T174110Z
UID:11355-1834790400-1834876799@alpineallergy.com
SUMMARY:GV Shot Hours
DESCRIPTION:﻿8:00am-12:45pm & 2:00pm-4:45pm
URL:https://alpineallergy.com/allergy-shot-calendar-event/grass-valley-shot-hours-2022-08-24-2022-08-23-2026-04-14/2028-02-22/
END:VEVENT
BEGIN:VEVENT
DTSTART;VALUE=DATE:20280223
DTEND;VALUE=DATE:20280224
DTSTAMP:20260423T223901
CREATED:20200612T174110Z
LAST-MODIFIED:20260331T201432Z
UID:11679-1834876800-1834963199@alpineallergy.com
SUMMARY:Aub & GV Shot Hours
DESCRIPTION:8:00am-12:45pm & 2:00pm-4:45pm
URL:https://alpineallergy.com/allergy-shot-calendar-event/grass-valley-shot-hours-2022-08-24-2022-08-24-2026-05-06-2026-04-08/2028-02-23/
END:VEVENT
BEGIN:VEVENT
DTSTART;VALUE=DATE:20280224
DTEND;VALUE=DATE:20280225
DTSTAMP:20260423T223901
CREATED:20200612T172239Z
LAST-MODIFIED:20200612T172239Z
UID:10804-1834963200-1835049599@alpineallergy.com
SUMMARY:No Shots
DESCRIPTION:
URL:https://alpineallergy.com/allergy-shot-calendar-event/gv-shot-hours-2-2022-08-25/2028-02-24/
END:VEVENT
BEGIN:VEVENT
DTSTART;VALUE=DATE:20280224
DTEND;VALUE=DATE:20280225
DTSTAMP:20260423T223901
CREATED:20200612T172239Z
LAST-MODIFIED:20200612T172239Z
UID:10805-1834963200-1835049599@alpineallergy.com
SUMMARY:No Shots
DESCRIPTION:
URL:https://alpineallergy.com/allergy-shot-calendar-event/gv-shot-hours-2-2022-08-25-2025-05-01/2028-02-24/
END:VEVENT
BEGIN:VEVENT
DTSTART;VALUE=DATE:20280225
DTEND;VALUE=DATE:20280226
DTSTAMP:20260423T223901
CREATED:20200612T173556Z
LAST-MODIFIED:20200612T173556Z
UID:10807-1835049600-1835135999@alpineallergy.com
SUMMARY:No Shots
DESCRIPTION:
URL:https://alpineallergy.com/allergy-shot-calendar-event/auburn-shot-hours-4/2028-02-25/
END:VEVENT
BEGIN:VEVENT
DTSTART;VALUE=DATE:20280228
DTEND;VALUE=DATE:20280229
DTSTAMP:20260423T223901
CREATED:20200612T171629Z
LAST-MODIFIED:20260316T234909Z
UID:10819-1835308800-1835395199@alpineallergy.com
SUMMARY:Auburn Shot Hours
DESCRIPTION:  \n8:00am-12:45pm & 2:00pm-4:45pm
URL:https://alpineallergy.com/allergy-shot-calendar-event/auburn-shot-hours-3/2028-02-28/
END:VEVENT
BEGIN:VEVENT
DTSTART;VALUE=DATE:20280229
DTEND;VALUE=DATE:20280301
DTSTAMP:20260423T223901
CREATED:20200612T174110Z
LAST-MODIFIED:20200612T174110Z
UID:11356-1835395200-1835481599@alpineallergy.com
SUMMARY:GV Shot Hours
DESCRIPTION:﻿8:00am-12:45pm & 2:00pm-4:45pm
URL:https://alpineallergy.com/allergy-shot-calendar-event/grass-valley-shot-hours-2022-08-24-2022-08-23-2026-04-14/2028-02-29/
END:VEVENT
END:VCALENDAR