BEGIN:VCALENDAR
VERSION:2.0
PRODID:-//Alpine Allergy &amp; Asthma  Associates, Inc. - ECPv6.15.17.1//NONSGML v1.0//EN
CALSCALE:GREGORIAN
METHOD:PUBLISH
X-WR-CALNAME:Alpine Allergy &amp; Asthma  Associates, Inc.
X-ORIGINAL-URL:https://alpineallergy.com
X-WR-CALDESC:Events for Alpine Allergy &amp; Asthma  Associates, Inc.
REFRESH-INTERVAL;VALUE=DURATION:PT1H
X-Robots-Tag:noindex
X-PUBLISHED-TTL:PT1H
BEGIN:VTIMEZONE
TZID:UTC
BEGIN:STANDARD
TZOFFSETFROM:+0000
TZOFFSETTO:+0000
TZNAME:UTC
DTSTART:20260101T000000
END:STANDARD
END:VTIMEZONE
BEGIN:VEVENT
DTSTART;VALUE=DATE:20271101
DTEND;VALUE=DATE:20271102
DTSTAMP:20260423T181458
CREATED:20200612T171629Z
LAST-MODIFIED:20260316T234906Z
UID:10683-1825027200-1825113599@alpineallergy.com
SUMMARY:Auburn Shot Hours
DESCRIPTION:  \n8:00am-12:45pm & 2:00pm-4:45pm
URL:https://alpineallergy.com/allergy-shot-calendar-event/auburn-shot-hours-3/2027-11-01/
END:VEVENT
BEGIN:VEVENT
DTSTART;VALUE=DATE:20271102
DTEND;VALUE=DATE:20271103
DTSTAMP:20260423T181458
CREATED:20200612T174110Z
LAST-MODIFIED:20200612T174110Z
UID:11339-1825113600-1825199999@alpineallergy.com
SUMMARY:GV Shot Hours
DESCRIPTION:﻿8:00am-12:45pm & 2:00pm-4:45pm
URL:https://alpineallergy.com/allergy-shot-calendar-event/grass-valley-shot-hours-2022-08-24-2022-08-23-2026-04-14/2027-11-02/
END:VEVENT
BEGIN:VEVENT
DTSTART;VALUE=DATE:20271103
DTEND;VALUE=DATE:20271104
DTSTAMP:20260423T181458
CREATED:20200612T174110Z
LAST-MODIFIED:20260331T201432Z
UID:11663-1825200000-1825286399@alpineallergy.com
SUMMARY:Aub & GV Shot Hours
DESCRIPTION:8:00am-12:45pm & 2:00pm-4:45pm
URL:https://alpineallergy.com/allergy-shot-calendar-event/grass-valley-shot-hours-2022-08-24-2022-08-24-2026-05-06-2026-04-08/2027-11-03/
END:VEVENT
BEGIN:VEVENT
DTSTART;VALUE=DATE:20271104
DTEND;VALUE=DATE:20271105
DTSTAMP:20260423T181458
CREATED:20200612T172239Z
LAST-MODIFIED:20200612T172239Z
UID:10686-1825286400-1825372799@alpineallergy.com
SUMMARY:No Shots
DESCRIPTION:
URL:https://alpineallergy.com/allergy-shot-calendar-event/gv-shot-hours-2-2022-08-25/2027-11-04/
END:VEVENT
BEGIN:VEVENT
DTSTART;VALUE=DATE:20271104
DTEND;VALUE=DATE:20271105
DTSTAMP:20260423T181458
CREATED:20200612T172239Z
LAST-MODIFIED:20200612T172239Z
UID:10685-1825286400-1825372799@alpineallergy.com
SUMMARY:No Shots
DESCRIPTION:
URL:https://alpineallergy.com/allergy-shot-calendar-event/gv-shot-hours-2-2022-08-25-2025-05-01/2027-11-04/
END:VEVENT
BEGIN:VEVENT
DTSTART;VALUE=DATE:20271105
DTEND;VALUE=DATE:20271106
DTSTAMP:20260423T181458
CREATED:20200612T173556Z
LAST-MODIFIED:20200612T173556Z
UID:10687-1825372800-1825459199@alpineallergy.com
SUMMARY:No Shots
DESCRIPTION:
URL:https://alpineallergy.com/allergy-shot-calendar-event/auburn-shot-hours-4/2027-11-05/
END:VEVENT
BEGIN:VEVENT
DTSTART;VALUE=DATE:20271108
DTEND;VALUE=DATE:20271109
DTSTAMP:20260423T181458
CREATED:20200612T171629Z
LAST-MODIFIED:20260316T234906Z
UID:10688-1825632000-1825718399@alpineallergy.com
SUMMARY:Auburn Shot Hours
DESCRIPTION:  \n8:00am-12:45pm & 2:00pm-4:45pm
URL:https://alpineallergy.com/allergy-shot-calendar-event/auburn-shot-hours-3/2027-11-08/
END:VEVENT
BEGIN:VEVENT
DTSTART;VALUE=DATE:20271109
DTEND;VALUE=DATE:20271110
DTSTAMP:20260423T181458
CREATED:20200612T174110Z
LAST-MODIFIED:20200612T174110Z
UID:11340-1825718400-1825804799@alpineallergy.com
SUMMARY:GV Shot Hours
DESCRIPTION:﻿8:00am-12:45pm & 2:00pm-4:45pm
URL:https://alpineallergy.com/allergy-shot-calendar-event/grass-valley-shot-hours-2022-08-24-2022-08-23-2026-04-14/2027-11-09/
END:VEVENT
BEGIN:VEVENT
DTSTART;VALUE=DATE:20271110
DTEND;VALUE=DATE:20271111
DTSTAMP:20260423T181458
CREATED:20200612T174110Z
LAST-MODIFIED:20260331T201432Z
UID:11664-1825804800-1825891199@alpineallergy.com
SUMMARY:Aub & GV Shot Hours
DESCRIPTION:8:00am-12:45pm & 2:00pm-4:45pm
URL:https://alpineallergy.com/allergy-shot-calendar-event/grass-valley-shot-hours-2022-08-24-2022-08-24-2026-05-06-2026-04-08/2027-11-10/
END:VEVENT
BEGIN:VEVENT
DTSTART;VALUE=DATE:20271111
DTEND;VALUE=DATE:20271112
DTSTAMP:20260423T181458
CREATED:20200612T172239Z
LAST-MODIFIED:20200612T172239Z
UID:10690-1825891200-1825977599@alpineallergy.com
SUMMARY:No Shots
DESCRIPTION:
URL:https://alpineallergy.com/allergy-shot-calendar-event/gv-shot-hours-2-2022-08-25-2025-05-01/2027-11-11/
END:VEVENT
BEGIN:VEVENT
DTSTART;VALUE=DATE:20271111
DTEND;VALUE=DATE:20271112
DTSTAMP:20260423T181458
CREATED:20200612T172239Z
LAST-MODIFIED:20200612T172239Z
UID:10691-1825891200-1825977599@alpineallergy.com
SUMMARY:No Shots
DESCRIPTION:
URL:https://alpineallergy.com/allergy-shot-calendar-event/gv-shot-hours-2-2022-08-25/2027-11-11/
END:VEVENT
BEGIN:VEVENT
DTSTART;VALUE=DATE:20271112
DTEND;VALUE=DATE:20271113
DTSTAMP:20260423T181458
CREATED:20200612T173556Z
LAST-MODIFIED:20200612T173556Z
UID:10692-1825977600-1826063999@alpineallergy.com
SUMMARY:No Shots
DESCRIPTION:
URL:https://alpineallergy.com/allergy-shot-calendar-event/auburn-shot-hours-4/2027-11-12/
END:VEVENT
BEGIN:VEVENT
DTSTART;VALUE=DATE:20271115
DTEND;VALUE=DATE:20271116
DTSTAMP:20260423T181458
CREATED:20200612T171629Z
LAST-MODIFIED:20260316T234906Z
UID:10698-1826236800-1826323199@alpineallergy.com
SUMMARY:Auburn Shot Hours
DESCRIPTION:  \n8:00am-12:45pm & 2:00pm-4:45pm
URL:https://alpineallergy.com/allergy-shot-calendar-event/auburn-shot-hours-3/2027-11-15/
END:VEVENT
BEGIN:VEVENT
DTSTART;VALUE=DATE:20271116
DTEND;VALUE=DATE:20271117
DTSTAMP:20260423T181458
CREATED:20200612T174110Z
LAST-MODIFIED:20200612T174110Z
UID:11341-1826323200-1826409599@alpineallergy.com
SUMMARY:GV Shot Hours
DESCRIPTION:﻿8:00am-12:45pm & 2:00pm-4:45pm
URL:https://alpineallergy.com/allergy-shot-calendar-event/grass-valley-shot-hours-2022-08-24-2022-08-23-2026-04-14/2027-11-16/
END:VEVENT
BEGIN:VEVENT
DTSTART;VALUE=DATE:20271117
DTEND;VALUE=DATE:20271118
DTSTAMP:20260423T181458
CREATED:20200612T174110Z
LAST-MODIFIED:20260331T201432Z
UID:11665-1826409600-1826495999@alpineallergy.com
SUMMARY:Aub & GV Shot Hours
DESCRIPTION:8:00am-12:45pm & 2:00pm-4:45pm
URL:https://alpineallergy.com/allergy-shot-calendar-event/grass-valley-shot-hours-2022-08-24-2022-08-24-2026-05-06-2026-04-08/2027-11-17/
END:VEVENT
BEGIN:VEVENT
DTSTART;VALUE=DATE:20271118
DTEND;VALUE=DATE:20271119
DTSTAMP:20260423T181458
CREATED:20200612T172239Z
LAST-MODIFIED:20200612T172239Z
UID:10703-1826496000-1826582399@alpineallergy.com
SUMMARY:No Shots
DESCRIPTION:
URL:https://alpineallergy.com/allergy-shot-calendar-event/gv-shot-hours-2-2022-08-25/2027-11-18/
END:VEVENT
BEGIN:VEVENT
DTSTART;VALUE=DATE:20271118
DTEND;VALUE=DATE:20271119
DTSTAMP:20260423T181458
CREATED:20200612T172239Z
LAST-MODIFIED:20200612T172239Z
UID:10702-1826496000-1826582399@alpineallergy.com
SUMMARY:No Shots
DESCRIPTION:
URL:https://alpineallergy.com/allergy-shot-calendar-event/gv-shot-hours-2-2022-08-25-2025-05-01/2027-11-18/
END:VEVENT
BEGIN:VEVENT
DTSTART;VALUE=DATE:20271119
DTEND;VALUE=DATE:20271120
DTSTAMP:20260423T181458
CREATED:20200612T173556Z
LAST-MODIFIED:20200612T173556Z
UID:10704-1826582400-1826668799@alpineallergy.com
SUMMARY:No Shots
DESCRIPTION:
URL:https://alpineallergy.com/allergy-shot-calendar-event/auburn-shot-hours-4/2027-11-19/
END:VEVENT
BEGIN:VEVENT
DTSTART;VALUE=DATE:20271122
DTEND;VALUE=DATE:20271123
DTSTAMP:20260423T181458
CREATED:20200612T171629Z
LAST-MODIFIED:20260316T234906Z
UID:10705-1826841600-1826927999@alpineallergy.com
SUMMARY:Auburn Shot Hours
DESCRIPTION:  \n8:00am-12:45pm & 2:00pm-4:45pm
URL:https://alpineallergy.com/allergy-shot-calendar-event/auburn-shot-hours-3/2027-11-22/
END:VEVENT
BEGIN:VEVENT
DTSTART;VALUE=DATE:20271123
DTEND;VALUE=DATE:20271124
DTSTAMP:20260423T181458
CREATED:20200612T174110Z
LAST-MODIFIED:20200612T174110Z
UID:11342-1826928000-1827014399@alpineallergy.com
SUMMARY:GV Shot Hours
DESCRIPTION:﻿8:00am-12:45pm & 2:00pm-4:45pm
URL:https://alpineallergy.com/allergy-shot-calendar-event/grass-valley-shot-hours-2022-08-24-2022-08-23-2026-04-14/2027-11-23/
END:VEVENT
BEGIN:VEVENT
DTSTART;VALUE=DATE:20271124
DTEND;VALUE=DATE:20271125
DTSTAMP:20260423T181458
CREATED:20200612T174110Z
LAST-MODIFIED:20260331T201432Z
UID:11666-1827014400-1827100799@alpineallergy.com
SUMMARY:Aub & GV Shot Hours
DESCRIPTION:8:00am-12:45pm & 2:00pm-4:45pm
URL:https://alpineallergy.com/allergy-shot-calendar-event/grass-valley-shot-hours-2022-08-24-2022-08-24-2026-05-06-2026-04-08/2027-11-24/
END:VEVENT
BEGIN:VEVENT
DTSTART;VALUE=DATE:20271125
DTEND;VALUE=DATE:20271126
DTSTAMP:20260423T181458
CREATED:20200612T172239Z
LAST-MODIFIED:20200612T172239Z
UID:10717-1827100800-1827187199@alpineallergy.com
SUMMARY:No Shots
DESCRIPTION:
URL:https://alpineallergy.com/allergy-shot-calendar-event/gv-shot-hours-2-2022-08-25/2027-11-25/
END:VEVENT
BEGIN:VEVENT
DTSTART;VALUE=DATE:20271125
DTEND;VALUE=DATE:20271126
DTSTAMP:20260423T181458
CREATED:20200612T172239Z
LAST-MODIFIED:20200612T172239Z
UID:10716-1827100800-1827187199@alpineallergy.com
SUMMARY:No Shots
DESCRIPTION:
URL:https://alpineallergy.com/allergy-shot-calendar-event/gv-shot-hours-2-2022-08-25-2025-05-01/2027-11-25/
END:VEVENT
BEGIN:VEVENT
DTSTART;VALUE=DATE:20271126
DTEND;VALUE=DATE:20271127
DTSTAMP:20260423T181458
CREATED:20200612T173556Z
LAST-MODIFIED:20200612T173556Z
UID:10718-1827187200-1827273599@alpineallergy.com
SUMMARY:No Shots
DESCRIPTION:
URL:https://alpineallergy.com/allergy-shot-calendar-event/auburn-shot-hours-4/2027-11-26/
END:VEVENT
BEGIN:VEVENT
DTSTART;VALUE=DATE:20271129
DTEND;VALUE=DATE:20271130
DTSTAMP:20260423T181458
CREATED:20200612T171629Z
LAST-MODIFIED:20260316T234906Z
UID:10719-1827446400-1827532799@alpineallergy.com
SUMMARY:Auburn Shot Hours
DESCRIPTION:  \n8:00am-12:45pm & 2:00pm-4:45pm
URL:https://alpineallergy.com/allergy-shot-calendar-event/auburn-shot-hours-3/2027-11-29/
END:VEVENT
BEGIN:VEVENT
DTSTART;VALUE=DATE:20271130
DTEND;VALUE=DATE:20271201
DTSTAMP:20260423T181458
CREATED:20200612T174110Z
LAST-MODIFIED:20200612T174110Z
UID:11343-1827532800-1827619199@alpineallergy.com
SUMMARY:GV Shot Hours
DESCRIPTION:﻿8:00am-12:45pm & 2:00pm-4:45pm
URL:https://alpineallergy.com/allergy-shot-calendar-event/grass-valley-shot-hours-2022-08-24-2022-08-23-2026-04-14/2027-11-30/
END:VEVENT
END:VCALENDAR