BEGIN:VCALENDAR
VERSION:2.0
PRODID:-//Alpine Allergy &amp; Asthma  Associates, Inc. - ECPv6.15.17.1//NONSGML v1.0//EN
CALSCALE:GREGORIAN
METHOD:PUBLISH
X-ORIGINAL-URL:https://alpineallergy.com
X-WR-CALDESC:Events for Alpine Allergy &amp; Asthma  Associates, Inc.
REFRESH-INTERVAL;VALUE=DURATION:PT1H
X-Robots-Tag:noindex
X-PUBLISHED-TTL:PT1H
BEGIN:VTIMEZONE
TZID:UTC
BEGIN:STANDARD
TZOFFSETFROM:+0000
TZOFFSETTO:+0000
TZNAME:UTC
DTSTART:20240101T000000
END:STANDARD
END:VTIMEZONE
BEGIN:VEVENT
DTSTART;VALUE=DATE:20250401
DTEND;VALUE=DATE:20250402
DTSTAMP:20260421T094240
CREATED:20200612T174110Z
LAST-MODIFIED:20200612T174110Z
UID:7372-1743465600-1743551999@alpineallergy.com
SUMMARY:GV Shot Hours
DESCRIPTION:8:00am-12:45pm & 2:00pm-4:45pm
URL:https://alpineallergy.com/allergy-shot-calendar-event/grass-valley-shot-hours-2022-08-24-2022-08-23-2025-04-01/
END:VEVENT
BEGIN:VEVENT
DTSTART;VALUE=DATE:20250402
DTEND;VALUE=DATE:20250403
DTSTAMP:20260421T094240
CREATED:20200612T174110Z
LAST-MODIFIED:20250226T201729Z
UID:7375-1743552000-1743638399@alpineallergy.com
SUMMARY:Aub & GV Shot Hours
DESCRIPTION:Auburn: 8:00am-12:45pm & 2:00pm-4:45pm \nGV: 8:00am-12:00pm
URL:https://alpineallergy.com/allergy-shot-calendar-event/grass-valley-shot-hours-2022-08-24-2022-08-24-2025-04-02/
END:VEVENT
BEGIN:VEVENT
DTSTART;VALUE=DATE:20250403
DTEND;VALUE=DATE:20250404
DTSTAMP:20260421T094240
CREATED:20200612T172239Z
LAST-MODIFIED:20250327T210232Z
UID:7377-1743638400-1743724799@alpineallergy.com
SUMMARY:GV Shot Hours
DESCRIPTION:8:00am-12:45pm & 2:00pm-4:45pm
URL:https://alpineallergy.com/allergy-shot-calendar-event/gv-shot-hours-2-2025-04-03/
END:VEVENT
BEGIN:VEVENT
DTSTART;VALUE=DATE:20250404
DTEND;VALUE=DATE:20250405
DTSTAMP:20260421T094240
CREATED:20200612T173556Z
LAST-MODIFIED:20250327T210454Z
UID:7379-1743724800-1743811199@alpineallergy.com
SUMMARY:Auburn Shot Hours
DESCRIPTION:7:30am – 12:00pm
URL:https://alpineallergy.com/allergy-shot-calendar-event/auburn-shot-hours-4-2025-04-04/
END:VEVENT
BEGIN:VEVENT
DTSTART;VALUE=DATE:20250407
DTEND;VALUE=DATE:20250408
DTSTAMP:20260421T094240
CREATED:20200612T171629Z
LAST-MODIFIED:20260316T234840Z
UID:7380-1743984000-1744070399@alpineallergy.com
SUMMARY:Auburn Shot Hours
DESCRIPTION:  \n8:00am-12:45pm & 2:00pm-4:45pm
URL:https://alpineallergy.com/allergy-shot-calendar-event/auburn-shot-hours-3/2025-04-07/
END:VEVENT
BEGIN:VEVENT
DTSTART;VALUE=DATE:20250408
DTEND;VALUE=DATE:20250409
DTSTAMP:20260421T094240
CREATED:20200612T174110Z
LAST-MODIFIED:20200612T174110Z
UID:7381-1744070400-1744156799@alpineallergy.com
SUMMARY:GV Shot Hours
DESCRIPTION:8:00am-12:45pm & 2:00pm-4:45pm
URL:https://alpineallergy.com/allergy-shot-calendar-event/grass-valley-shot-hours-2022-08-24-2022-08-23-2025-04-08/
END:VEVENT
BEGIN:VEVENT
DTSTART;VALUE=DATE:20250409
DTEND;VALUE=DATE:20250410
DTSTAMP:20260421T094240
CREATED:20200612T174110Z
LAST-MODIFIED:20240423T235912Z
UID:7387-1744156800-1744243199@alpineallergy.com
SUMMARY:Aub & GV Shot Hours
DESCRIPTION:8:00am-12:45pm & 2:00pm-4:45pm
URL:https://alpineallergy.com/allergy-shot-calendar-event/grass-valley-shot-hours-2022-08-24-2022-08-24-2025-04-09/
END:VEVENT
BEGIN:VEVENT
DTSTART;VALUE=DATE:20250410
DTEND;VALUE=DATE:20250411
DTSTAMP:20260421T094240
CREATED:20200612T172239Z
LAST-MODIFIED:20250327T210856Z
UID:7388-1744243200-1744329599@alpineallergy.com
SUMMARY:GV Shot Hours
DESCRIPTION:8:00am-12:45pm & 2:00pm-4:45pm
URL:https://alpineallergy.com/allergy-shot-calendar-event/gv-shot-hours-2-2025-04-10/
END:VEVENT
BEGIN:VEVENT
DTSTART;VALUE=DATE:20250411
DTEND;VALUE=DATE:20250412
DTSTAMP:20260421T094240
CREATED:20200612T173556Z
LAST-MODIFIED:20250327T210955Z
UID:7390-1744329600-1744415999@alpineallergy.com
SUMMARY:Auburn Shot Hours
DESCRIPTION:7:30am – 12:00pm
URL:https://alpineallergy.com/allergy-shot-calendar-event/auburn-shot-hours-4-2025-04-11/
END:VEVENT
BEGIN:VEVENT
DTSTART;VALUE=DATE:20250414
DTEND;VALUE=DATE:20250415
DTSTAMP:20260421T094240
CREATED:20200612T171629Z
LAST-MODIFIED:20260316T234840Z
UID:7391-1744588800-1744675199@alpineallergy.com
SUMMARY:Auburn Shot Hours
DESCRIPTION:  \n8:00am-12:45pm & 2:00pm-4:45pm
URL:https://alpineallergy.com/allergy-shot-calendar-event/auburn-shot-hours-3/2025-04-14/
END:VEVENT
BEGIN:VEVENT
DTSTART;VALUE=DATE:20250415
DTEND;VALUE=DATE:20250416
DTSTAMP:20260421T094240
CREATED:20200612T174110Z
LAST-MODIFIED:20200612T174110Z
UID:7392-1744675200-1744761599@alpineallergy.com
SUMMARY:GV Shot Hours
DESCRIPTION:8:00am-12:45pm & 2:00pm-4:45pm
URL:https://alpineallergy.com/allergy-shot-calendar-event/grass-valley-shot-hours-2022-08-24-2022-08-23-2025-04-15/
END:VEVENT
BEGIN:VEVENT
DTSTART;VALUE=DATE:20250416
DTEND;VALUE=DATE:20250417
DTSTAMP:20260421T094240
CREATED:20200612T174110Z
LAST-MODIFIED:20240423T235912Z
UID:7395-1744761600-1744847999@alpineallergy.com
SUMMARY:Aub & GV Shot Hours
DESCRIPTION:8:00am-12:45pm & 2:00pm-4:45pm
URL:https://alpineallergy.com/allergy-shot-calendar-event/grass-valley-shot-hours-2022-08-24-2022-08-24-2025-04-16/
END:VEVENT
BEGIN:VEVENT
DTSTART;VALUE=DATE:20250417
DTEND;VALUE=DATE:20250418
DTSTAMP:20260421T094240
CREATED:20200612T172239Z
LAST-MODIFIED:20250327T211034Z
UID:7396-1744848000-1744934399@alpineallergy.com
SUMMARY:GV Shot Hours
DESCRIPTION:8:00am-12:45pm & 2:00pm-4:45pm
URL:https://alpineallergy.com/allergy-shot-calendar-event/gv-shot-hours-2-2025-04-17/
END:VEVENT
BEGIN:VEVENT
DTSTART;VALUE=DATE:20250418
DTEND;VALUE=DATE:20250419
DTSTAMP:20260421T094240
CREATED:20200612T173556Z
LAST-MODIFIED:20250327T204726Z
UID:7398-1744934400-1745020799@alpineallergy.com
SUMMARY:No Shots
DESCRIPTION:
URL:https://alpineallergy.com/allergy-shot-calendar-event/auburn-shot-hours-4/2025-04-18/
END:VEVENT
BEGIN:VEVENT
DTSTART;VALUE=DATE:20250421
DTEND;VALUE=DATE:20250422
DTSTAMP:20260421T094240
CREATED:20200612T171629Z
LAST-MODIFIED:20260316T234840Z
UID:7399-1745193600-1745279999@alpineallergy.com
SUMMARY:Auburn Shot Hours
DESCRIPTION:  \n8:00am-12:45pm & 2:00pm-4:45pm
URL:https://alpineallergy.com/allergy-shot-calendar-event/auburn-shot-hours-3/2025-04-21/
END:VEVENT
BEGIN:VEVENT
DTSTART;VALUE=DATE:20250422
DTEND;VALUE=DATE:20250423
DTSTAMP:20260421T094240
CREATED:20200612T174110Z
LAST-MODIFIED:20200612T174110Z
UID:7400-1745280000-1745366399@alpineallergy.com
SUMMARY:GV Shot Hours
DESCRIPTION:8:00am-12:45pm & 2:00pm-4:45pm
URL:https://alpineallergy.com/allergy-shot-calendar-event/grass-valley-shot-hours-2022-08-24-2022-08-23-2025-04-22/
END:VEVENT
BEGIN:VEVENT
DTSTART;VALUE=DATE:20250423
DTEND;VALUE=DATE:20250424
DTSTAMP:20260421T094240
CREATED:20200612T174110Z
LAST-MODIFIED:20240423T235915Z
UID:7403-1745366400-1745452799@alpineallergy.com
SUMMARY:Aub & GV Shot Hours
DESCRIPTION:8:00am-12:45pm & 2:00pm-4:45pm
URL:https://alpineallergy.com/allergy-shot-calendar-event/grass-valley-shot-hours-2022-08-24-2022-08-24-2025-04-23/
END:VEVENT
BEGIN:VEVENT
DTSTART;VALUE=DATE:20250424
DTEND;VALUE=DATE:20250425
DTSTAMP:20260421T094240
CREATED:20200612T172239Z
LAST-MODIFIED:20250327T211113Z
UID:7404-1745452800-1745539199@alpineallergy.com
SUMMARY:GV Shot Hours
DESCRIPTION:8:00am-12:45pm & 2:00pm-4:45pm
URL:https://alpineallergy.com/allergy-shot-calendar-event/gv-shot-hours-2-2025-04-24/
END:VEVENT
BEGIN:VEVENT
DTSTART;VALUE=DATE:20250425
DTEND;VALUE=DATE:20250426
DTSTAMP:20260421T094240
CREATED:20200612T173556Z
LAST-MODIFIED:20250327T211155Z
UID:7406-1745539200-1745625599@alpineallergy.com
SUMMARY:Auburn Shot Hours
DESCRIPTION:7:30am – 12:00pm
URL:https://alpineallergy.com/allergy-shot-calendar-event/auburn-shot-hours-4-2025-04-25/
END:VEVENT
BEGIN:VEVENT
DTSTART;VALUE=DATE:20250428
DTEND;VALUE=DATE:20250429
DTSTAMP:20260421T094240
CREATED:20200612T171629Z
LAST-MODIFIED:20260316T234840Z
UID:7407-1745798400-1745884799@alpineallergy.com
SUMMARY:Auburn Shot Hours
DESCRIPTION:  \n8:00am-12:45pm & 2:00pm-4:45pm
URL:https://alpineallergy.com/allergy-shot-calendar-event/auburn-shot-hours-3/2025-04-28/
END:VEVENT
BEGIN:VEVENT
DTSTART;VALUE=DATE:20250429
DTEND;VALUE=DATE:20250430
DTSTAMP:20260421T094240
CREATED:20200612T174110Z
LAST-MODIFIED:20200612T174110Z
UID:7408-1745884800-1745971199@alpineallergy.com
SUMMARY:GV Shot Hours
DESCRIPTION:8:00am-12:45pm & 2:00pm-4:45pm
URL:https://alpineallergy.com/allergy-shot-calendar-event/grass-valley-shot-hours-2022-08-24-2022-08-23-2025-04-29/
END:VEVENT
BEGIN:VEVENT
DTSTART;VALUE=DATE:20250430
DTEND;VALUE=DATE:20250501
DTSTAMP:20260421T094240
CREATED:20200612T174110Z
LAST-MODIFIED:20240423T235915Z
UID:7411-1745971200-1746057599@alpineallergy.com
SUMMARY:Aub & GV Shot Hours
DESCRIPTION:8:00am-12:45pm & 2:00pm-4:45pm
URL:https://alpineallergy.com/allergy-shot-calendar-event/grass-valley-shot-hours-2022-08-24-2022-08-24-2025-04-30/
END:VEVENT
END:VCALENDAR