BEGIN:VCALENDAR
VERSION:2.0
PRODID:-//Alpine Allergy &amp; Asthma  Associates, Inc. - ECPv6.15.17.1//NONSGML v1.0//EN
CALSCALE:GREGORIAN
METHOD:PUBLISH
X-ORIGINAL-URL:https://alpineallergy.com
X-WR-CALDESC:Events for Alpine Allergy &amp; Asthma  Associates, Inc.
REFRESH-INTERVAL;VALUE=DURATION:PT1H
X-Robots-Tag:noindex
X-PUBLISHED-TTL:PT1H
BEGIN:VTIMEZONE
TZID:UTC
BEGIN:STANDARD
TZOFFSETFROM:+0000
TZOFFSETTO:+0000
TZNAME:UTC
DTSTART:20240101T000000
END:STANDARD
END:VTIMEZONE
BEGIN:VEVENT
DTSTART;VALUE=DATE:20250203
DTEND;VALUE=DATE:20250204
DTSTAMP:20260423T101737
CREATED:20200612T171629Z
LAST-MODIFIED:20260316T234838Z
UID:7281-1738540800-1738627199@alpineallergy.com
SUMMARY:Auburn Shot Hours
DESCRIPTION:  \n8:00am-12:45pm & 2:00pm-4:45pm
URL:https://alpineallergy.com/allergy-shot-calendar-event/auburn-shot-hours-3/2025-02-03/
END:VEVENT
BEGIN:VEVENT
DTSTART;VALUE=DATE:20250204
DTEND;VALUE=DATE:20250205
DTSTAMP:20260423T101737
CREATED:20200612T174110Z
LAST-MODIFIED:20250204T161001Z
UID:7282-1738627200-1738713599@alpineallergy.com
SUMMARY:No Shots Today
DESCRIPTION:
URL:https://alpineallergy.com/allergy-shot-calendar-event/grass-valley-shot-hours-2022-08-24-2022-08-23-2025-02-04/
END:VEVENT
BEGIN:VEVENT
DTSTART;VALUE=DATE:20250205
DTEND;VALUE=DATE:20250206
DTSTAMP:20260423T101737
CREATED:20200612T174110Z
LAST-MODIFIED:20250203T214203Z
UID:7285-1738713600-1738799999@alpineallergy.com
SUMMARY:GV Shot Hours (No Shots Aub)
DESCRIPTION:8:00am-12:45pm & 2:00pm-4:45pm
URL:https://alpineallergy.com/allergy-shot-calendar-event/grass-valley-shot-hours-2022-08-24-2022-08-24-2025-02-05/
END:VEVENT
BEGIN:VEVENT
DTSTART;VALUE=DATE:20250206
DTEND;VALUE=DATE:20250207
DTSTAMP:20260423T101737
CREATED:20200612T172239Z
LAST-MODIFIED:20250206T144536Z
UID:7287-1738800000-1738886399@alpineallergy.com
SUMMARY:No Shots Today
DESCRIPTION:
URL:https://alpineallergy.com/allergy-shot-calendar-event/gv-shot-hours-2-2022-08-25-2025-02-06/
END:VEVENT
BEGIN:VEVENT
DTSTART;VALUE=DATE:20250207
DTEND;VALUE=DATE:20250208
DTSTAMP:20260423T101737
CREATED:20200612T173556Z
LAST-MODIFIED:20250206T214038Z
UID:7288-1738886400-1738972799@alpineallergy.com
SUMMARY:Auburn Shot Hours (Start at 8:30am)
DESCRIPTION:8:30am-12:00pm
URL:https://alpineallergy.com/allergy-shot-calendar-event/auburn-shot-hours-4-2025-02-07/
END:VEVENT
BEGIN:VEVENT
DTSTART;VALUE=DATE:20250210
DTEND;VALUE=DATE:20250211
DTSTAMP:20260423T101737
CREATED:20200612T171629Z
LAST-MODIFIED:20260316T234838Z
UID:7289-1739145600-1739231999@alpineallergy.com
SUMMARY:Auburn Shot Hours
DESCRIPTION:  \n8:00am-12:45pm & 2:00pm-4:45pm
URL:https://alpineallergy.com/allergy-shot-calendar-event/auburn-shot-hours-3/2025-02-10/
END:VEVENT
BEGIN:VEVENT
DTSTART;VALUE=DATE:20250211
DTEND;VALUE=DATE:20250212
DTSTAMP:20260423T101737
CREATED:20200612T174110Z
LAST-MODIFIED:20200612T174110Z
UID:7290-1739232000-1739318399@alpineallergy.com
SUMMARY:GV Shot Hours
DESCRIPTION:8:00am-12:45pm & 2:00pm-4:45pm
URL:https://alpineallergy.com/allergy-shot-calendar-event/grass-valley-shot-hours-2022-08-24-2022-08-23-2025-02-11/
END:VEVENT
BEGIN:VEVENT
DTSTART;VALUE=DATE:20250212
DTEND;VALUE=DATE:20250213
DTSTAMP:20260423T101737
CREATED:20200612T174110Z
LAST-MODIFIED:20240423T235908Z
UID:7293-1739318400-1739404799@alpineallergy.com
SUMMARY:Aub & GV Shot Hours
DESCRIPTION:8:00am-12:45pm & 2:00pm-4:45pm
URL:https://alpineallergy.com/allergy-shot-calendar-event/grass-valley-shot-hours-2022-08-24-2022-08-24-2025-02-12/
END:VEVENT
BEGIN:VEVENT
DTSTART;VALUE=DATE:20250213
DTEND;VALUE=DATE:20250214
DTSTAMP:20260423T101737
CREATED:20200612T172239Z
LAST-MODIFIED:20241017T155556Z
UID:7295-1739404800-1739491199@alpineallergy.com
SUMMARY:Auburn Shot Hours (No Shots GV)
DESCRIPTION:8:00am-12:45pm & 2:00pm-4:45pm
URL:https://alpineallergy.com/allergy-shot-calendar-event/gv-shot-hours-2-2022-08-25-2025-02-13/
END:VEVENT
BEGIN:VEVENT
DTSTART;VALUE=DATE:20250214
DTEND;VALUE=DATE:20250215
DTSTAMP:20260423T101737
CREATED:20200612T173556Z
LAST-MODIFIED:20250327T204308Z
UID:7296-1739491200-1739577599@alpineallergy.com
SUMMARY:No Shots
DESCRIPTION:
URL:https://alpineallergy.com/allergy-shot-calendar-event/auburn-shot-hours-4/2025-02-14/
END:VEVENT
BEGIN:VEVENT
DTSTART;VALUE=DATE:20250217
DTEND;VALUE=DATE:20250218
DTSTAMP:20260423T101737
CREATED:20200612T171629Z
LAST-MODIFIED:20260316T234838Z
UID:7297-1739750400-1739836799@alpineallergy.com
SUMMARY:Auburn Shot Hours
DESCRIPTION:  \n8:00am-12:45pm & 2:00pm-4:45pm
URL:https://alpineallergy.com/allergy-shot-calendar-event/auburn-shot-hours-3/2025-02-17/
END:VEVENT
BEGIN:VEVENT
DTSTART;VALUE=DATE:20250218
DTEND;VALUE=DATE:20250219
DTSTAMP:20260423T101737
CREATED:20200612T174110Z
LAST-MODIFIED:20250218T170000Z
UID:7298-1739836800-1739923199@alpineallergy.com
SUMMARY:No Shots
DESCRIPTION:
URL:https://alpineallergy.com/allergy-shot-calendar-event/grass-valley-shot-hours-2022-08-24-2022-08-23-2025-02-18/
END:VEVENT
BEGIN:VEVENT
DTSTART;VALUE=DATE:20250219
DTEND;VALUE=DATE:20250220
DTSTAMP:20260423T101737
CREATED:20200612T174110Z
LAST-MODIFIED:20241017T155743Z
UID:7301-1739923200-1740009599@alpineallergy.com
SUMMARY:Auburn Shot Hours (No Shots GV)
DESCRIPTION:8:00am-12:45pm & 2:00pm-4:45pm
URL:https://alpineallergy.com/allergy-shot-calendar-event/grass-valley-shot-hours-2022-08-24-2022-08-24-2025-02-19/
END:VEVENT
BEGIN:VEVENT
DTSTART;VALUE=DATE:20250220
DTEND;VALUE=DATE:20250221
DTSTAMP:20260423T101737
CREATED:20200612T172239Z
LAST-MODIFIED:20250203T214704Z
UID:7303-1740009600-1740095999@alpineallergy.com
SUMMARY:No Shots
DESCRIPTION:
URL:https://alpineallergy.com/allergy-shot-calendar-event/gv-shot-hours-2-2022-08-25-2025-02-20/
END:VEVENT
BEGIN:VEVENT
DTSTART;VALUE=DATE:20250221
DTEND;VALUE=DATE:20250222
DTSTAMP:20260423T101737
CREATED:20200612T173556Z
LAST-MODIFIED:20250327T204308Z
UID:7304-1740096000-1740182399@alpineallergy.com
SUMMARY:No Shots
DESCRIPTION:
URL:https://alpineallergy.com/allergy-shot-calendar-event/auburn-shot-hours-4/2025-02-21/
END:VEVENT
BEGIN:VEVENT
DTSTART;VALUE=DATE:20250224
DTEND;VALUE=DATE:20250225
DTSTAMP:20260423T101737
CREATED:20200612T171629Z
LAST-MODIFIED:20260316T234838Z
UID:7305-1740355200-1740441599@alpineallergy.com
SUMMARY:Auburn Shot Hours
DESCRIPTION:  \n8:00am-12:45pm & 2:00pm-4:45pm
URL:https://alpineallergy.com/allergy-shot-calendar-event/auburn-shot-hours-3/2025-02-24/
END:VEVENT
BEGIN:VEVENT
DTSTART;VALUE=DATE:20250225
DTEND;VALUE=DATE:20250226
DTSTAMP:20260423T101737
CREATED:20200612T174110Z
LAST-MODIFIED:20200612T174110Z
UID:7306-1740441600-1740527999@alpineallergy.com
SUMMARY:GV Shot Hours
DESCRIPTION:8:00am-12:45pm & 2:00pm-4:45pm
URL:https://alpineallergy.com/allergy-shot-calendar-event/grass-valley-shot-hours-2022-08-24-2022-08-23-2025-02-25/
END:VEVENT
BEGIN:VEVENT
DTSTART;VALUE=DATE:20250226
DTEND;VALUE=DATE:20250227
DTSTAMP:20260423T101737
CREATED:20200612T174110Z
LAST-MODIFIED:20240423T235909Z
UID:7309-1740528000-1740614399@alpineallergy.com
SUMMARY:Aub & GV Shot Hours
DESCRIPTION:8:00am-12:45pm & 2:00pm-4:45pm
URL:https://alpineallergy.com/allergy-shot-calendar-event/grass-valley-shot-hours-2022-08-24-2022-08-24-2025-02-26/
END:VEVENT
BEGIN:VEVENT
DTSTART;VALUE=DATE:20250227
DTEND;VALUE=DATE:20250228
DTSTAMP:20260423T101737
CREATED:20200612T172239Z
LAST-MODIFIED:20250226T201306Z
UID:7314-1740614400-1740700799@alpineallergy.com
SUMMARY:GV Shot Hours
DESCRIPTION:8:00am-12:45pm
URL:https://alpineallergy.com/allergy-shot-calendar-event/gv-shot-hours-2-2022-08-25-2025-02-27/
END:VEVENT
BEGIN:VEVENT
DTSTART;VALUE=DATE:20250228
DTEND;VALUE=DATE:20250301
DTSTAMP:20260423T101737
CREATED:20200612T173556Z
LAST-MODIFIED:20250327T204309Z
UID:7318-1740700800-1740787199@alpineallergy.com
SUMMARY:No Shots
DESCRIPTION:
URL:https://alpineallergy.com/allergy-shot-calendar-event/auburn-shot-hours-4/2025-02-28/
END:VEVENT
END:VCALENDAR