BEGIN:VCALENDAR
VERSION:2.0
PRODID:-//Alpine Allergy &amp; Asthma  Associates, Inc. - ECPv6.15.17.1//NONSGML v1.0//EN
CALSCALE:GREGORIAN
METHOD:PUBLISH
X-ORIGINAL-URL:https://alpineallergy.com
X-WR-CALDESC:Events for Alpine Allergy &amp; Asthma  Associates, Inc.
REFRESH-INTERVAL;VALUE=DURATION:PT1H
X-Robots-Tag:noindex
X-PUBLISHED-TTL:PT1H
BEGIN:VTIMEZONE
TZID:UTC
BEGIN:STANDARD
TZOFFSETFROM:+0000
TZOFFSETTO:+0000
TZNAME:UTC
DTSTART:20240101T000000
END:STANDARD
END:VTIMEZONE
BEGIN:VEVENT
DTSTART;VALUE=DATE:20250101
DTEND;VALUE=DATE:20250102
DTSTAMP:20260423T115734
CREATED:20200612T174110Z
LAST-MODIFIED:20240708T162330Z
UID:7242-1735689600-1735775999@alpineallergy.com
SUMMARY:Office Closed- Happy New Year
DESCRIPTION:Closed
URL:https://alpineallergy.com/allergy-shot-calendar-event/grass-valley-shot-hours-2022-08-24-2022-08-24-2025-01-01/
END:VEVENT
BEGIN:VEVENT
DTSTART;VALUE=DATE:20250102
DTEND;VALUE=DATE:20250103
DTSTAMP:20260423T115734
CREATED:20200612T172239Z
LAST-MODIFIED:20241017T155048Z
UID:7244-1735776000-1735862399@alpineallergy.com
SUMMARY:Auburn Shot Hours (No Shots GV)
DESCRIPTION:8:00am-12:45pm & 2:00pm-4:45pm
URL:https://alpineallergy.com/allergy-shot-calendar-event/gv-shot-hours-2-2022-08-25-2025-01-02/
END:VEVENT
BEGIN:VEVENT
DTSTART;VALUE=DATE:20250103
DTEND;VALUE=DATE:20250104
DTSTAMP:20260423T115734
CREATED:20200612T173556Z
LAST-MODIFIED:20250327T204304Z
UID:7245-1735862400-1735948799@alpineallergy.com
SUMMARY:No Shots
DESCRIPTION:
URL:https://alpineallergy.com/allergy-shot-calendar-event/auburn-shot-hours-4/2025-01-03/
END:VEVENT
BEGIN:VEVENT
DTSTART;VALUE=DATE:20250106
DTEND;VALUE=DATE:20250107
DTSTAMP:20260423T115734
CREATED:20200612T171629Z
LAST-MODIFIED:20260316T234837Z
UID:7246-1736121600-1736207999@alpineallergy.com
SUMMARY:Auburn Shot Hours
DESCRIPTION:  \n8:00am-12:45pm & 2:00pm-4:45pm
URL:https://alpineallergy.com/allergy-shot-calendar-event/auburn-shot-hours-3/2025-01-06/
END:VEVENT
BEGIN:VEVENT
DTSTART;VALUE=DATE:20250107
DTEND;VALUE=DATE:20250108
DTSTAMP:20260423T115734
CREATED:20200612T174110Z
LAST-MODIFIED:20200612T174110Z
UID:7247-1736208000-1736294399@alpineallergy.com
SUMMARY:GV Shot Hours
DESCRIPTION:8:00am-12:45pm & 2:00pm-4:45pm
URL:https://alpineallergy.com/allergy-shot-calendar-event/grass-valley-shot-hours-2022-08-24-2022-08-23-2025-01-07/
END:VEVENT
BEGIN:VEVENT
DTSTART;VALUE=DATE:20250108
DTEND;VALUE=DATE:20250109
DTSTAMP:20260423T115734
CREATED:20200612T174110Z
LAST-MODIFIED:20240423T235904Z
UID:7250-1736294400-1736380799@alpineallergy.com
SUMMARY:Aub & GV Shot Hours
DESCRIPTION:8:00am-12:45pm & 2:00pm-4:45pm
URL:https://alpineallergy.com/allergy-shot-calendar-event/grass-valley-shot-hours-2022-08-24-2022-08-24-2025-01-08/
END:VEVENT
BEGIN:VEVENT
DTSTART;VALUE=DATE:20250110
DTEND;VALUE=DATE:20250111
DTSTAMP:20260423T115734
CREATED:20200612T173556Z
LAST-MODIFIED:20250327T204304Z
UID:7256-1736467200-1736553599@alpineallergy.com
SUMMARY:No Shots
DESCRIPTION:
URL:https://alpineallergy.com/allergy-shot-calendar-event/auburn-shot-hours-4/2025-01-10/
END:VEVENT
BEGIN:VEVENT
DTSTART;VALUE=DATE:20250113
DTEND;VALUE=DATE:20250114
DTSTAMP:20260423T115734
CREATED:20200612T171629Z
LAST-MODIFIED:20260316T234838Z
UID:7257-1736726400-1736812799@alpineallergy.com
SUMMARY:Auburn Shot Hours
DESCRIPTION:  \n8:00am-12:45pm & 2:00pm-4:45pm
URL:https://alpineallergy.com/allergy-shot-calendar-event/auburn-shot-hours-3/2025-01-13/
END:VEVENT
BEGIN:VEVENT
DTSTART;VALUE=DATE:20250114
DTEND;VALUE=DATE:20250115
DTSTAMP:20260423T115734
CREATED:20200612T174110Z
LAST-MODIFIED:20250102T181436Z
UID:7258-1736812800-1736899199@alpineallergy.com
SUMMARY:Aub Shot Hours (No shots GV)
DESCRIPTION:8:00am-12:45pm & 2:00pm-4:45pm
URL:https://alpineallergy.com/allergy-shot-calendar-event/grass-valley-shot-hours-2022-08-24-2022-08-23-2025-01-14/
END:VEVENT
BEGIN:VEVENT
DTSTART;VALUE=DATE:20250115
DTEND;VALUE=DATE:20250116
DTSTAMP:20260423T115734
CREATED:20200612T174110Z
LAST-MODIFIED:20250102T181646Z
UID:7261-1736899200-1736985599@alpineallergy.com
SUMMARY:Aub Shot Hours (No Shots GV)
DESCRIPTION:8:00am-12:45pm & 2:00pm-4:45pm
URL:https://alpineallergy.com/allergy-shot-calendar-event/grass-valley-shot-hours-2022-08-24-2022-08-24-2025-01-15/
END:VEVENT
BEGIN:VEVENT
DTSTART;VALUE=DATE:20250116
DTEND;VALUE=DATE:20250117
DTSTAMP:20260423T115734
CREATED:20200612T172239Z
LAST-MODIFIED:20250102T181907Z
UID:7263-1736985600-1737071999@alpineallergy.com
SUMMARY:Aub Shot Hours (No Shots GV)
DESCRIPTION:8:00am-12:45pm & 2:00pm-4:45pm
URL:https://alpineallergy.com/allergy-shot-calendar-event/gv-shot-hours-2-2022-08-25-2025-01-16/
END:VEVENT
BEGIN:VEVENT
DTSTART;VALUE=DATE:20250117
DTEND;VALUE=DATE:20250118
DTSTAMP:20260423T115734
CREATED:20200612T173556Z
LAST-MODIFIED:20250327T204305Z
UID:7264-1737072000-1737158399@alpineallergy.com
SUMMARY:No Shots
DESCRIPTION:
URL:https://alpineallergy.com/allergy-shot-calendar-event/auburn-shot-hours-4/2025-01-17/
END:VEVENT
BEGIN:VEVENT
DTSTART;VALUE=DATE:20250120
DTEND;VALUE=DATE:20250121
DTSTAMP:20260423T115734
CREATED:20200612T171629Z
LAST-MODIFIED:20260316T234838Z
UID:7265-1737331200-1737417599@alpineallergy.com
SUMMARY:Auburn Shot Hours
DESCRIPTION:  \n8:00am-12:45pm & 2:00pm-4:45pm
URL:https://alpineallergy.com/allergy-shot-calendar-event/auburn-shot-hours-3/2025-01-20/
END:VEVENT
BEGIN:VEVENT
DTSTART;VALUE=DATE:20250121
DTEND;VALUE=DATE:20250122
DTSTAMP:20260423T115734
CREATED:20200612T174110Z
LAST-MODIFIED:20250102T182121Z
UID:7266-1737417600-1737503999@alpineallergy.com
SUMMARY:Aub Shot Hours (No Shots GV)
DESCRIPTION:8:00am-12:45pm & 2:00pm-4:45pm
URL:https://alpineallergy.com/allergy-shot-calendar-event/grass-valley-shot-hours-2022-08-24-2022-08-23-2025-01-21/
END:VEVENT
BEGIN:VEVENT
DTSTART;VALUE=DATE:20250122
DTEND;VALUE=DATE:20250123
DTSTAMP:20260423T115734
CREATED:20200612T174110Z
LAST-MODIFIED:20250102T183724Z
UID:7269-1737504000-1737590399@alpineallergy.com
SUMMARY:Aub Shot Hours (No Shots GV)
DESCRIPTION:8:00am-12:45pm & 2:00pm-4:45pm
URL:https://alpineallergy.com/allergy-shot-calendar-event/grass-valley-shot-hours-2022-08-24-2022-08-24-2025-01-22/
END:VEVENT
BEGIN:VEVENT
DTSTART;VALUE=DATE:20250123
DTEND;VALUE=DATE:20250124
DTSTAMP:20260423T115734
CREATED:20200612T172239Z
LAST-MODIFIED:20241017T155225Z
UID:7271-1737590400-1737676799@alpineallergy.com
SUMMARY:Auburn Shot Hours (No Shots GV)
DESCRIPTION:8:00am-12:45pm & 2:00pm-4:45pm
URL:https://alpineallergy.com/allergy-shot-calendar-event/gv-shot-hours-2-2022-08-25-2025-01-23/
END:VEVENT
BEGIN:VEVENT
DTSTART;VALUE=DATE:20250124
DTEND;VALUE=DATE:20250125
DTSTAMP:20260423T115734
CREATED:20200612T173556Z
LAST-MODIFIED:20250327T204305Z
UID:7272-1737676800-1737763199@alpineallergy.com
SUMMARY:No Shots
DESCRIPTION:
URL:https://alpineallergy.com/allergy-shot-calendar-event/auburn-shot-hours-4/2025-01-24/
END:VEVENT
BEGIN:VEVENT
DTSTART;VALUE=DATE:20250127
DTEND;VALUE=DATE:20250128
DTSTAMP:20260423T115734
CREATED:20200612T171629Z
LAST-MODIFIED:20260316T234838Z
UID:7273-1737936000-1738022399@alpineallergy.com
SUMMARY:Auburn Shot Hours
DESCRIPTION:  \n8:00am-12:45pm & 2:00pm-4:45pm
URL:https://alpineallergy.com/allergy-shot-calendar-event/auburn-shot-hours-3/2025-01-27/
END:VEVENT
BEGIN:VEVENT
DTSTART;VALUE=DATE:20250128
DTEND;VALUE=DATE:20250129
DTSTAMP:20260423T115734
CREATED:20200612T174110Z
LAST-MODIFIED:20200612T174110Z
UID:7274-1738022400-1738108799@alpineallergy.com
SUMMARY:GV Shot Hours
DESCRIPTION:8:00am-12:45pm & 2:00pm-4:45pm
URL:https://alpineallergy.com/allergy-shot-calendar-event/grass-valley-shot-hours-2022-08-24-2022-08-23-2025-01-28/
END:VEVENT
BEGIN:VEVENT
DTSTART;VALUE=DATE:20250129
DTEND;VALUE=DATE:20250130
DTSTAMP:20260423T115734
CREATED:20200612T174110Z
LAST-MODIFIED:20240423T235905Z
UID:7277-1738108800-1738195199@alpineallergy.com
SUMMARY:Aub & GV Shot Hours
DESCRIPTION:8:00am-12:45pm & 2:00pm-4:45pm
URL:https://alpineallergy.com/allergy-shot-calendar-event/grass-valley-shot-hours-2022-08-24-2022-08-24-2025-01-29/
END:VEVENT
BEGIN:VEVENT
DTSTART;VALUE=DATE:20250131
DTEND;VALUE=DATE:20250201
DTSTAMP:20260423T115734
CREATED:20200612T173556Z
LAST-MODIFIED:20250327T204308Z
UID:7280-1738281600-1738367999@alpineallergy.com
SUMMARY:No Shots
DESCRIPTION:
URL:https://alpineallergy.com/allergy-shot-calendar-event/auburn-shot-hours-4/2025-01-31/
END:VEVENT
END:VCALENDAR