BEGIN:VCALENDAR
VERSION:2.0
PRODID:-//Alpine Allergy &amp; Asthma  Associates, Inc. - ECPv6.15.17.1//NONSGML v1.0//EN
CALSCALE:GREGORIAN
METHOD:PUBLISH
X-ORIGINAL-URL:https://alpineallergy.com
X-WR-CALDESC:Events for Alpine Allergy &amp; Asthma  Associates, Inc.
REFRESH-INTERVAL;VALUE=DURATION:PT1H
X-Robots-Tag:noindex
X-PUBLISHED-TTL:PT1H
BEGIN:VTIMEZONE
TZID:UTC
BEGIN:STANDARD
TZOFFSETFROM:+0000
TZOFFSETTO:+0000
TZNAME:UTC
DTSTART:20230101T000000
END:STANDARD
END:VTIMEZONE
BEGIN:VEVENT
DTSTART;VALUE=DATE:20241101
DTEND;VALUE=DATE:20241102
DTSTAMP:20260423T151051
CREATED:20200612T173556Z
LAST-MODIFIED:20250327T204300Z
UID:7104-1730419200-1730505599@alpineallergy.com
SUMMARY:No Shots
DESCRIPTION:
URL:https://alpineallergy.com/allergy-shot-calendar-event/auburn-shot-hours-4/2024-11-01/
END:VEVENT
BEGIN:VEVENT
DTSTART;VALUE=DATE:20241104
DTEND;VALUE=DATE:20241105
DTSTAMP:20260423T151051
CREATED:20200612T171629Z
LAST-MODIFIED:20260316T234836Z
UID:7105-1730678400-1730764799@alpineallergy.com
SUMMARY:Auburn Shot Hours
DESCRIPTION:  \n8:00am-12:45pm & 2:00pm-4:45pm
URL:https://alpineallergy.com/allergy-shot-calendar-event/auburn-shot-hours-3/2024-11-04/
END:VEVENT
BEGIN:VEVENT
DTSTART;VALUE=DATE:20241105
DTEND;VALUE=DATE:20241106
DTSTAMP:20260423T151051
CREATED:20200612T174110Z
LAST-MODIFIED:20200612T174110Z
UID:7106-1730764800-1730851199@alpineallergy.com
SUMMARY:GV Shot Hours
DESCRIPTION:8:00am-12:45pm & 2:00pm-4:45pm
URL:https://alpineallergy.com/allergy-shot-calendar-event/grass-valley-shot-hours-2022-08-24-2022-08-23-2024-11-05/
END:VEVENT
BEGIN:VEVENT
DTSTART;VALUE=DATE:20241106
DTEND;VALUE=DATE:20241107
DTSTAMP:20260423T151051
CREATED:20200612T174110Z
LAST-MODIFIED:20240423T235858Z
UID:7109-1730851200-1730937599@alpineallergy.com
SUMMARY:Aub & GV Shot Hours
DESCRIPTION:8:00am-12:45pm & 2:00pm-4:45pm
URL:https://alpineallergy.com/allergy-shot-calendar-event/grass-valley-shot-hours-2022-08-24-2022-08-24-2024-11-06/
END:VEVENT
BEGIN:VEVENT
DTSTART;VALUE=DATE:20241108
DTEND;VALUE=DATE:20241109
DTSTAMP:20260423T151051
CREATED:20200612T173556Z
LAST-MODIFIED:20250327T204302Z
UID:7112-1731024000-1731110399@alpineallergy.com
SUMMARY:No Shots
DESCRIPTION:
URL:https://alpineallergy.com/allergy-shot-calendar-event/auburn-shot-hours-4/2024-11-08/
END:VEVENT
BEGIN:VEVENT
DTSTART;VALUE=DATE:20241111
DTEND;VALUE=DATE:20241112
DTSTAMP:20260423T151051
CREATED:20200612T171629Z
LAST-MODIFIED:20260316T234836Z
UID:7113-1731283200-1731369599@alpineallergy.com
SUMMARY:Auburn Shot Hours
DESCRIPTION:  \n8:00am-12:45pm & 2:00pm-4:45pm
URL:https://alpineallergy.com/allergy-shot-calendar-event/auburn-shot-hours-3/2024-11-11/
END:VEVENT
BEGIN:VEVENT
DTSTART;VALUE=DATE:20241112
DTEND;VALUE=DATE:20241113
DTSTAMP:20260423T151051
CREATED:20200612T174110Z
LAST-MODIFIED:20200612T174110Z
UID:7114-1731369600-1731455999@alpineallergy.com
SUMMARY:GV Shot Hours
DESCRIPTION:8:00am-12:45pm & 2:00pm-4:45pm
URL:https://alpineallergy.com/allergy-shot-calendar-event/grass-valley-shot-hours-2022-08-24-2022-08-23-2024-11-12/
END:VEVENT
BEGIN:VEVENT
DTSTART;VALUE=DATE:20241113
DTEND;VALUE=DATE:20241114
DTSTAMP:20260423T151051
CREATED:20200612T174110Z
LAST-MODIFIED:20240423T235859Z
UID:7117-1731456000-1731542399@alpineallergy.com
SUMMARY:Aub & GV Shot Hours
DESCRIPTION:8:00am-12:45pm & 2:00pm-4:45pm
URL:https://alpineallergy.com/allergy-shot-calendar-event/grass-valley-shot-hours-2022-08-24-2022-08-24-2024-11-13/
END:VEVENT
BEGIN:VEVENT
DTSTART;VALUE=DATE:20241115
DTEND;VALUE=DATE:20241116
DTSTAMP:20260423T151051
CREATED:20200612T173556Z
LAST-MODIFIED:20250327T204303Z
UID:7120-1731628800-1731715199@alpineallergy.com
SUMMARY:No Shots
DESCRIPTION:
URL:https://alpineallergy.com/allergy-shot-calendar-event/auburn-shot-hours-4/2024-11-15/
END:VEVENT
BEGIN:VEVENT
DTSTART;VALUE=DATE:20241118
DTEND;VALUE=DATE:20241119
DTSTAMP:20260423T151051
CREATED:20200612T171629Z
LAST-MODIFIED:20260316T234836Z
UID:7121-1731888000-1731974399@alpineallergy.com
SUMMARY:Auburn Shot Hours
DESCRIPTION:  \n8:00am-12:45pm & 2:00pm-4:45pm
URL:https://alpineallergy.com/allergy-shot-calendar-event/auburn-shot-hours-3/2024-11-18/
END:VEVENT
BEGIN:VEVENT
DTSTART;VALUE=DATE:20241119
DTEND;VALUE=DATE:20241120
DTSTAMP:20260423T151051
CREATED:20200612T174110Z
LAST-MODIFIED:20200612T174110Z
UID:7122-1731974400-1732060799@alpineallergy.com
SUMMARY:GV Shot Hours
DESCRIPTION:8:00am-12:45pm & 2:00pm-4:45pm
URL:https://alpineallergy.com/allergy-shot-calendar-event/grass-valley-shot-hours-2022-08-24-2022-08-23-2024-11-19/
END:VEVENT
BEGIN:VEVENT
DTSTART;VALUE=DATE:20241120
DTEND;VALUE=DATE:20241121
DTSTAMP:20260423T151051
CREATED:20200612T174110Z
LAST-MODIFIED:20240423T235859Z
UID:7125-1732060800-1732147199@alpineallergy.com
SUMMARY:Aub & GV Shot Hours
DESCRIPTION:8:00am-12:45pm & 2:00pm-4:45pm
URL:https://alpineallergy.com/allergy-shot-calendar-event/grass-valley-shot-hours-2022-08-24-2022-08-24-2024-11-20/
END:VEVENT
BEGIN:VEVENT
DTSTART;VALUE=DATE:20241122
DTEND;VALUE=DATE:20241123
DTSTAMP:20260423T151051
CREATED:20200612T173556Z
LAST-MODIFIED:20250327T204303Z
UID:7128-1732233600-1732319999@alpineallergy.com
SUMMARY:No Shots
DESCRIPTION:
URL:https://alpineallergy.com/allergy-shot-calendar-event/auburn-shot-hours-4/2024-11-22/
END:VEVENT
BEGIN:VEVENT
DTSTART;VALUE=DATE:20241125
DTEND;VALUE=DATE:20241126
DTSTAMP:20260423T151051
CREATED:20200612T171629Z
LAST-MODIFIED:20260316T234836Z
UID:7129-1732492800-1732579199@alpineallergy.com
SUMMARY:Auburn Shot Hours
DESCRIPTION:  \n8:00am-12:45pm & 2:00pm-4:45pm
URL:https://alpineallergy.com/allergy-shot-calendar-event/auburn-shot-hours-3/2024-11-25/
END:VEVENT
BEGIN:VEVENT
DTSTART;VALUE=DATE:20241126
DTEND;VALUE=DATE:20241127
DTSTAMP:20260423T151051
CREATED:20200612T174110Z
LAST-MODIFIED:20240708T161056Z
UID:7130-1732579200-1732665599@alpineallergy.com
SUMMARY:Auburn Shot Hours (No Shots GV)
DESCRIPTION:8:00am-12:45pm & 2:00pm-4:45pm
URL:https://alpineallergy.com/allergy-shot-calendar-event/grass-valley-shot-hours-2022-08-24-2022-08-23-2024-11-26/
END:VEVENT
BEGIN:VEVENT
DTSTART;VALUE=DATE:20241127
DTEND;VALUE=DATE:20241128
DTSTAMP:20260423T151051
CREATED:20200612T174110Z
LAST-MODIFIED:20240708T160956Z
UID:7133-1732665600-1732751999@alpineallergy.com
SUMMARY:Auburn Shot Hours (No Shots GV)
DESCRIPTION:8:00am-12:45pm & 2:00pm-4:45pm
URL:https://alpineallergy.com/allergy-shot-calendar-event/grass-valley-shot-hours-2022-08-24-2022-08-24-2024-11-27/
END:VEVENT
BEGIN:VEVENT
DTSTART;VALUE=DATE:20241128
DTEND;VALUE=DATE:20241129
DTSTAMP:20260423T151051
CREATED:20200612T172239Z
LAST-MODIFIED:20240820T183409Z
UID:8154-1732752000-1732838399@alpineallergy.com
SUMMARY:Office Closed- Happy Thanksgiving
DESCRIPTION:8:00am-12:45pm & 2:00pm-4:45pm
URL:https://alpineallergy.com/allergy-shot-calendar-event/gv-shot-hours-2-2022-08-25-2024-11-28/
END:VEVENT
BEGIN:VEVENT
DTSTART;VALUE=DATE:20241129
DTEND;VALUE=DATE:20241130
DTSTAMP:20260423T151051
CREATED:20200612T173556Z
LAST-MODIFIED:20240708T160856Z
UID:7136-1732838400-1732924799@alpineallergy.com
SUMMARY:Office Closed- Happy Thanksgiving
DESCRIPTION:Closed
URL:https://alpineallergy.com/allergy-shot-calendar-event/auburn-shot-hours-4-2024-11-29/
END:VEVENT
END:VCALENDAR