BEGIN:VCALENDAR
VERSION:2.0
PRODID:-//Alpine Allergy &amp; Asthma  Associates, Inc. - ECPv6.15.17.1//NONSGML v1.0//EN
CALSCALE:GREGORIAN
METHOD:PUBLISH
X-WR-CALNAME:Alpine Allergy &amp; Asthma  Associates, Inc.
X-ORIGINAL-URL:https://alpineallergy.com
X-WR-CALDESC:Events for Alpine Allergy &amp; Asthma  Associates, Inc.
REFRESH-INTERVAL;VALUE=DURATION:PT1H
X-Robots-Tag:noindex
X-PUBLISHED-TTL:PT1H
BEGIN:VTIMEZONE
TZID:UTC
BEGIN:STANDARD
TZOFFSETFROM:+0000
TZOFFSETTO:+0000
TZNAME:UTC
DTSTART:20230101T000000
END:STANDARD
END:VTIMEZONE
BEGIN:VEVENT
DTSTART;VALUE=DATE:20241001
DTEND;VALUE=DATE:20241002
DTSTAMP:20260423T164356
CREATED:20200612T174110Z
LAST-MODIFIED:20200612T174110Z
UID:7057-1727740800-1727827199@alpineallergy.com
SUMMARY:GV Shot Hours
DESCRIPTION:8:00am-12:45pm & 2:00pm-4:45pm
URL:https://alpineallergy.com/allergy-shot-calendar-event/grass-valley-shot-hours-2022-08-24-2022-08-23-2024-10-01/
END:VEVENT
BEGIN:VEVENT
DTSTART;VALUE=DATE:20241002
DTEND;VALUE=DATE:20241003
DTSTAMP:20260423T164356
CREATED:20200612T174110Z
LAST-MODIFIED:20240423T235856Z
UID:7060-1727827200-1727913599@alpineallergy.com
SUMMARY:Aub & GV Shot Hours
DESCRIPTION:8:00am-12:45pm & 2:00pm-4:45pm
URL:https://alpineallergy.com/allergy-shot-calendar-event/grass-valley-shot-hours-2022-08-24-2022-08-24-2024-10-02/
END:VEVENT
BEGIN:VEVENT
DTSTART;VALUE=DATE:20241004
DTEND;VALUE=DATE:20241005
DTSTAMP:20260423T164356
CREATED:20200612T173556Z
LAST-MODIFIED:20241004T150642Z
UID:7063-1728000000-1728086399@alpineallergy.com
SUMMARY:No Shots Today
DESCRIPTION:
URL:https://alpineallergy.com/allergy-shot-calendar-event/auburn-shot-hours-4-2024-10-04/
END:VEVENT
BEGIN:VEVENT
DTSTART;VALUE=DATE:20241007
DTEND;VALUE=DATE:20241008
DTSTAMP:20260423T164356
CREATED:20200612T171629Z
LAST-MODIFIED:20260316T234834Z
UID:7064-1728259200-1728345599@alpineallergy.com
SUMMARY:Auburn Shot Hours
DESCRIPTION:  \n8:00am-12:45pm & 2:00pm-4:45pm
URL:https://alpineallergy.com/allergy-shot-calendar-event/auburn-shot-hours-3/2024-10-07/
END:VEVENT
BEGIN:VEVENT
DTSTART;VALUE=DATE:20241008
DTEND;VALUE=DATE:20241009
DTSTAMP:20260423T164356
CREATED:20200612T174110Z
LAST-MODIFIED:20200612T174110Z
UID:7065-1728345600-1728431999@alpineallergy.com
SUMMARY:GV Shot Hours
DESCRIPTION:8:00am-12:45pm & 2:00pm-4:45pm
URL:https://alpineallergy.com/allergy-shot-calendar-event/grass-valley-shot-hours-2022-08-24-2022-08-23-2024-10-08/
END:VEVENT
BEGIN:VEVENT
DTSTART;VALUE=DATE:20241009
DTEND;VALUE=DATE:20241010
DTSTAMP:20260423T164356
CREATED:20200612T174110Z
LAST-MODIFIED:20240725T155739Z
UID:7068-1728432000-1728518399@alpineallergy.com
SUMMARY:Aub & GV Shot Hours
DESCRIPTION:Auburn 8:00am-12:45pm & 2:00pm-4:45pm \nGrass Valley 2:00pm-4:45pm
URL:https://alpineallergy.com/allergy-shot-calendar-event/grass-valley-shot-hours-2022-08-24-2022-08-24-2024-10-09/
END:VEVENT
BEGIN:VEVENT
DTSTART;VALUE=DATE:20241010
DTEND;VALUE=DATE:20241011
DTSTAMP:20260423T164356
CREATED:20200612T172239Z
LAST-MODIFIED:20240820T181534Z
UID:8146-1728518400-1728604799@alpineallergy.com
SUMMARY:Auburn Shot Hours (No Shots GV)
DESCRIPTION:8:00am-12:45pm & 2:00pm-4:45pm
URL:https://alpineallergy.com/allergy-shot-calendar-event/gv-shot-hours-2-2022-08-25-2024-10-10/
END:VEVENT
BEGIN:VEVENT
DTSTART;VALUE=DATE:20241011
DTEND;VALUE=DATE:20241012
DTSTAMP:20260423T164356
CREATED:20200612T173556Z
LAST-MODIFIED:20250327T204259Z
UID:7071-1728604800-1728691199@alpineallergy.com
SUMMARY:No Shots
DESCRIPTION:
URL:https://alpineallergy.com/allergy-shot-calendar-event/auburn-shot-hours-4/2024-10-11/
END:VEVENT
BEGIN:VEVENT
DTSTART;VALUE=DATE:20241014
DTEND;VALUE=DATE:20241015
DTSTAMP:20260423T164356
CREATED:20200612T171629Z
LAST-MODIFIED:20260316T234835Z
UID:7072-1728864000-1728950399@alpineallergy.com
SUMMARY:Auburn Shot Hours
DESCRIPTION:  \n8:00am-12:45pm & 2:00pm-4:45pm
URL:https://alpineallergy.com/allergy-shot-calendar-event/auburn-shot-hours-3/2024-10-14/
END:VEVENT
BEGIN:VEVENT
DTSTART;VALUE=DATE:20241015
DTEND;VALUE=DATE:20241016
DTSTAMP:20260423T164356
CREATED:20200612T174110Z
LAST-MODIFIED:20200612T174110Z
UID:7073-1728950400-1729036799@alpineallergy.com
SUMMARY:GV Shot Hours
DESCRIPTION:8:00am-12:45pm & 2:00pm-4:45pm
URL:https://alpineallergy.com/allergy-shot-calendar-event/grass-valley-shot-hours-2022-08-24-2022-08-23-2024-10-15/
END:VEVENT
BEGIN:VEVENT
DTSTART;VALUE=DATE:20241016
DTEND;VALUE=DATE:20241017
DTSTAMP:20260423T164356
CREATED:20200612T174110Z
LAST-MODIFIED:20240423T235857Z
UID:7076-1729036800-1729123199@alpineallergy.com
SUMMARY:Aub & GV Shot Hours
DESCRIPTION:8:00am-12:45pm & 2:00pm-4:45pm
URL:https://alpineallergy.com/allergy-shot-calendar-event/grass-valley-shot-hours-2022-08-24-2022-08-24-2024-10-16/
END:VEVENT
BEGIN:VEVENT
DTSTART;VALUE=DATE:20241018
DTEND;VALUE=DATE:20241019
DTSTAMP:20260423T164356
CREATED:20200612T173556Z
LAST-MODIFIED:20250327T204300Z
UID:7079-1729209600-1729295999@alpineallergy.com
SUMMARY:No Shots
DESCRIPTION:
URL:https://alpineallergy.com/allergy-shot-calendar-event/auburn-shot-hours-4/2024-10-18/
END:VEVENT
BEGIN:VEVENT
DTSTART;VALUE=DATE:20241021
DTEND;VALUE=DATE:20241022
DTSTAMP:20260423T164356
CREATED:20200612T171629Z
LAST-MODIFIED:20260316T234835Z
UID:7080-1729468800-1729555199@alpineallergy.com
SUMMARY:Auburn Shot Hours
DESCRIPTION:  \n8:00am-12:45pm & 2:00pm-4:45pm
URL:https://alpineallergy.com/allergy-shot-calendar-event/auburn-shot-hours-3/2024-10-21/
END:VEVENT
BEGIN:VEVENT
DTSTART;VALUE=DATE:20241022
DTEND;VALUE=DATE:20241023
DTSTAMP:20260423T164356
CREATED:20200612T174110Z
LAST-MODIFIED:20200612T174110Z
UID:7081-1729555200-1729641599@alpineallergy.com
SUMMARY:GV Shot Hours
DESCRIPTION:8:00am-12:45pm & 2:00pm-4:45pm
URL:https://alpineallergy.com/allergy-shot-calendar-event/grass-valley-shot-hours-2022-08-24-2022-08-23-2024-10-22/
END:VEVENT
BEGIN:VEVENT
DTSTART;VALUE=DATE:20241023
DTEND;VALUE=DATE:20241024
DTSTAMP:20260423T164356
CREATED:20200612T174110Z
LAST-MODIFIED:20240708T155351Z
UID:7090-1729641600-1729727999@alpineallergy.com
SUMMARY:Auburn Shot Hours (No Shots GV)
DESCRIPTION:8:00am-12:45pm & 2:00pm-4:45pm
URL:https://alpineallergy.com/allergy-shot-calendar-event/grass-valley-shot-hours-2022-08-24-2022-08-24-2024-10-23/
END:VEVENT
BEGIN:VEVENT
DTSTART;VALUE=DATE:20241024
DTEND;VALUE=DATE:20241025
DTSTAMP:20260423T164356
CREATED:20200612T172239Z
LAST-MODIFIED:20240820T183157Z
UID:8149-1729728000-1729814399@alpineallergy.com
SUMMARY:Auburn Shot Hours (No Shots GV)
DESCRIPTION:8:00am-12:45pm & 2:00pm-4:45pm
URL:https://alpineallergy.com/allergy-shot-calendar-event/gv-shot-hours-2-2022-08-25-2024-10-24/
END:VEVENT
BEGIN:VEVENT
DTSTART;VALUE=DATE:20241025
DTEND;VALUE=DATE:20241026
DTSTAMP:20260423T164356
CREATED:20200612T173556Z
LAST-MODIFIED:20250327T204300Z
UID:7094-1729814400-1729900799@alpineallergy.com
SUMMARY:No Shots
DESCRIPTION:
URL:https://alpineallergy.com/allergy-shot-calendar-event/auburn-shot-hours-4/2024-10-25/
END:VEVENT
BEGIN:VEVENT
DTSTART;VALUE=DATE:20241028
DTEND;VALUE=DATE:20241029
DTSTAMP:20260423T164356
CREATED:20200612T171629Z
LAST-MODIFIED:20260316T234836Z
UID:7095-1730073600-1730159999@alpineallergy.com
SUMMARY:Auburn Shot Hours
DESCRIPTION:  \n8:00am-12:45pm & 2:00pm-4:45pm
URL:https://alpineallergy.com/allergy-shot-calendar-event/auburn-shot-hours-3/2024-10-28/
END:VEVENT
BEGIN:VEVENT
DTSTART;VALUE=DATE:20241029
DTEND;VALUE=DATE:20241030
DTSTAMP:20260423T164356
CREATED:20200612T174110Z
LAST-MODIFIED:20240708T155559Z
UID:7096-1730160000-1730246399@alpineallergy.com
SUMMARY:Auburn Shot Hours (No Shots GV)
DESCRIPTION:8:00am-12:45pm & 2:00pm-4:45pm
URL:https://alpineallergy.com/allergy-shot-calendar-event/grass-valley-shot-hours-2022-08-24-2022-08-23-2024-10-29/
END:VEVENT
BEGIN:VEVENT
DTSTART;VALUE=DATE:20241030
DTEND;VALUE=DATE:20241031
DTSTAMP:20260423T164356
CREATED:20200612T174110Z
LAST-MODIFIED:20240423T235858Z
UID:7099-1730246400-1730332799@alpineallergy.com
SUMMARY:Aub & GV Shot Hours
DESCRIPTION:8:00am-12:45pm & 2:00pm-4:45pm
URL:https://alpineallergy.com/allergy-shot-calendar-event/grass-valley-shot-hours-2022-08-24-2022-08-24-2024-10-30/
END:VEVENT
END:VCALENDAR